BEGIN:VCALENDAR
VERSION:2.0
PRODID:-//DGKV - ECPv6.15.20//NONSGML v1.0//EN
CALSCALE:GREGORIAN
METHOD:PUBLISH
X-ORIGINAL-URL:https://dgkv.info
X-WR-CALDESC:Veranstaltungen für DGKV
REFRESH-INTERVAL;VALUE=DURATION:PT1H
X-Robots-Tag:noindex
X-PUBLISHED-TTL:PT1H
BEGIN:VTIMEZONE
TZID:Europe/Berlin
BEGIN:DAYLIGHT
TZOFFSETFROM:+0100
TZOFFSETTO:+0200
TZNAME:CEST
DTSTART:20150329T010000
END:DAYLIGHT
BEGIN:STANDARD
TZOFFSETFROM:+0200
TZOFFSETTO:+0100
TZNAME:CET
DTSTART:20151025T010000
END:STANDARD
BEGIN:DAYLIGHT
TZOFFSETFROM:+0100
TZOFFSETTO:+0200
TZNAME:CEST
DTSTART:20160327T010000
END:DAYLIGHT
BEGIN:STANDARD
TZOFFSETFROM:+0200
TZOFFSETTO:+0100
TZNAME:CET
DTSTART:20161030T010000
END:STANDARD
BEGIN:DAYLIGHT
TZOFFSETFROM:+0100
TZOFFSETTO:+0200
TZNAME:CEST
DTSTART:20170326T010000
END:DAYLIGHT
BEGIN:STANDARD
TZOFFSETFROM:+0200
TZOFFSETTO:+0100
TZNAME:CET
DTSTART:20171029T010000
END:STANDARD
END:VTIMEZONE
BEGIN:VEVENT
DTSTART;TZID=Europe/Berlin:20160907T180000
DTEND;TZID=Europe/Berlin:20160907T200000
DTSTAMP:20260424T144543
CREATED:20160806T152113Z
LAST-MODIFIED:20160806T152113Z
UID:1529-1473271200-1473278400@dgkv.info
SUMMARY:Onlinetraining "ACT für Anfänger"
DESCRIPTION:8wöchiger Online-Video-Kurs im September und Oktober 2016 für alle\, die ACT kennenlernen und erfahren wollen mit Valerie Kiel und Mareile Rahming. \nmehr Informationen: ACT Akademie
URL:https://dgkv.info/termin/onlinetraining-act-fuer-anfaenger/2016-09-07/
LOCATION:Online\, www.zoom.us\, Schweiz
CATEGORIES:Workshop
ATTACH;FMTTYPE=:
ORGANIZER;CN="ACT Akademie / Valerie Kiel & Mareile Rahming":MAILTO:kiel@act-akademie.org 
END:VEVENT
END:VCALENDAR