BEGIN:VCALENDAR
VERSION:2.0
PRODID:-//DGKV - ECPv6.15.20//NONSGML v1.0//EN
CALSCALE:GREGORIAN
METHOD:PUBLISH
X-ORIGINAL-URL:https://dgkv.info
X-WR-CALDESC:Veranstaltungen für DGKV
REFRESH-INTERVAL;VALUE=DURATION:PT1H
X-Robots-Tag:noindex
X-PUBLISHED-TTL:PT1H
BEGIN:VTIMEZONE
TZID:Europe/Berlin
BEGIN:DAYLIGHT
TZOFFSETFROM:+0100
TZOFFSETTO:+0200
TZNAME:CEST
DTSTART:20180325T010000
END:DAYLIGHT
BEGIN:STANDARD
TZOFFSETFROM:+0200
TZOFFSETTO:+0100
TZNAME:CET
DTSTART:20181028T010000
END:STANDARD
BEGIN:DAYLIGHT
TZOFFSETFROM:+0100
TZOFFSETTO:+0200
TZNAME:CEST
DTSTART:20190331T010000
END:DAYLIGHT
BEGIN:STANDARD
TZOFFSETFROM:+0200
TZOFFSETTO:+0100
TZNAME:CET
DTSTART:20191027T010000
END:STANDARD
BEGIN:DAYLIGHT
TZOFFSETFROM:+0100
TZOFFSETTO:+0200
TZNAME:CEST
DTSTART:20200329T010000
END:DAYLIGHT
BEGIN:STANDARD
TZOFFSETFROM:+0200
TZOFFSETTO:+0100
TZNAME:CET
DTSTART:20201025T010000
END:STANDARD
END:VTIMEZONE
BEGIN:VEVENT
DTSTART;VALUE=DATE:20190824
DTEND;VALUE=DATE:20190826
DTSTAMP:20260425T233101
CREATED:20190306T131049Z
LAST-MODIFIED:20190306T131049Z
UID:3268-1566604800-1566777599@dgkv.info
SUMMARY:Flexival Berlin
DESCRIPTION:DAS ACT-FLEXIVAL IN BERLIN\n\n\nIMPULSWORKSHOPS MIT PARTY \nDas ACT-Flexival\n24.- 25. August 2019\nWegen starker Nachfrage zu Auffrischungs- und Schnuppermöglichkeiten in ACT veranstaltet das ACT-Netzwerk Berlin-Brandenburg verteilt über insgesamt 1\,5 Tage das FLEXIVAL Berlin.\nIn abwechslungsreichen Impuls-Workshops sollen diverse Möglichkeiten der Arbeit mit ACT vorgestellt werden. Alle an ACT Interessierten können Raum zum Vertiefen bisheriger ACT-Kenntnisse\, Inspiration sowie Möglichkeiten zum Netzwerken und Austauschen erwarten. Ein vielfältiges Rahmenprogramm wird das Ganze vertiefen und lebendig halten. Am Abend treffen wir uns bei Musik und Geselligkeit\, bevor wir am Sonntag in die letzten Workshops gehen. Alle Workshops laufen nacheinander ab\, sodaß inhaltlich alle verfolgt werden können. \nDie Anmeldung erfolgt per Email: info@act-netzwerk-bb.de \nDer Frühbucherrabatt ist verlängert auf den 31.5.2019. \n \n\nDen Flyer des Flexivals gibt es hier \n 
URL:https://dgkv.info/termin/flexival-berlin/
LOCATION:ACT-Netzwerk Berlin-Brandenburg\, Friedelstr. 40 HH (im SIA)\, Berlin\, 12047\, Deutschland
ORGANIZER;CN="ACT-Netzwerk Berlin-Brandenburg":MAILTO:info@act-netzwerk-bb.de
GEO:52.4918111;13.4275503
X-APPLE-STRUCTURED-LOCATION;VALUE=URI;X-ADDRESS=ACT-Netzwerk Berlin-Brandenburg Friedelstr. 40 HH (im SIA) Berlin 12047 Deutschland;X-APPLE-RADIUS=500;X-TITLE=Friedelstr. 40 HH (im SIA):geo:13.4275503,52.4918111
END:VEVENT
END:VCALENDAR