BEGIN:VCALENDAR
VERSION:2.0
PRODID:-//DGKV - ECPv6.15.20//NONSGML v1.0//EN
CALSCALE:GREGORIAN
METHOD:PUBLISH
X-WR-CALNAME:DGKV
X-ORIGINAL-URL:https://dgkv.info
X-WR-CALDESC:Veranstaltungen für DGKV
REFRESH-INTERVAL;VALUE=DURATION:PT1H
X-Robots-Tag:noindex
X-PUBLISHED-TTL:PT1H
BEGIN:VTIMEZONE
TZID:Europe/Berlin
BEGIN:DAYLIGHT
TZOFFSETFROM:+0100
TZOFFSETTO:+0200
TZNAME:CEST
DTSTART:20190331T010000
END:DAYLIGHT
BEGIN:STANDARD
TZOFFSETFROM:+0200
TZOFFSETTO:+0100
TZNAME:CET
DTSTART:20191027T010000
END:STANDARD
BEGIN:DAYLIGHT
TZOFFSETFROM:+0100
TZOFFSETTO:+0200
TZNAME:CEST
DTSTART:20200329T010000
END:DAYLIGHT
BEGIN:STANDARD
TZOFFSETFROM:+0200
TZOFFSETTO:+0100
TZNAME:CET
DTSTART:20201025T010000
END:STANDARD
BEGIN:DAYLIGHT
TZOFFSETFROM:+0100
TZOFFSETTO:+0200
TZNAME:CEST
DTSTART:20210328T010000
END:DAYLIGHT
BEGIN:STANDARD
TZOFFSETFROM:+0200
TZOFFSETTO:+0100
TZNAME:CET
DTSTART:20211031T010000
END:STANDARD
BEGIN:DAYLIGHT
TZOFFSETFROM:+0100
TZOFFSETTO:+0200
TZNAME:CEST
DTSTART:20220327T010000
END:DAYLIGHT
BEGIN:STANDARD
TZOFFSETFROM:+0200
TZOFFSETTO:+0100
TZNAME:CET
DTSTART:20221030T010000
END:STANDARD
END:VTIMEZONE
BEGIN:VEVENT
DTSTART;TZID=Europe/Berlin:20200624T190000
DTEND;TZID=Europe/Berlin:20210224T220000
DTSTAMP:20260424T231336
CREATED:20200527T142546Z
LAST-MODIFIED:20201227T230811Z
UID:4207-1593025200-1614204000@dgkv.info
SUMMARY:ACT vertiefen – Online Kurs über 8 Monate
DESCRIPTION:Die Abende in diesem Online-Kurs über Zoom beleuchten einzelne Aspekte der Akzeptanz- und Commitment-Therapie (ACT) und können einzeln oder als ganzer Kurs gebucht werden. Wir wollen Übungen vorstellen und ausprobieren\, Themen diskutieren und miteinander ACT und Achtsamkeitspraxis erleben. Immer drei Stunden. Zusammen. Sein. \nWir setzen dabei voraus\, dass ihr euch schon etwas mit ACT beschäftigt habt\, in welchem Rahmen auch immer. Ihr könnt euch mit dem Formular direkt anmelden und wir senden euch jeweils am Abend vor dem Treffen den Zoom-Link für die Einwahl zu. Begleitend wird es einen Bereich auf unserer Webseite geben\, über den wir miteinander Übungen zugänglich machen und uns gegenseitig auf Filme oder Texte hinweisen können. \nDie Abende finden jeweils von 19-22 Uhr statt. Die Kosten belaufen sich pro Abend auf 50\,00 Euro\, wovon wir in gewohnter Weise 10 Euro an ein Projekt spenden. Wenn du den ganzen Kurs buchst kostet dich das für 8 Abende 350\,00 Euro und wir spenden davon 70 Euro an ein Projekt. Die Anmeldung ist immer bis zum Vorabend um 18 Uhr möglich. \nVoraussetzungen: eine einigermaßen stabile Internetverbindung und die Installation der Zoom-App auf deinem Rechner\, Tablet oder Handy. \n\n\n\n\nHier die Themen: \n24.06.2020 Verweilen\, wo es weh tut. Achtsamkeit und kreative Hoffnungslosigkeit\n22.07.2020 Was ist Dir denn wirklich wichtig? Vertiefung zur Wertearbeit\n26.08.2020 It’s true\, if you believe it. Defusion – oder was war das eben?\n30.09.2020 Wer bin ich? Und wieviele bin ich noch? Selbst als Kontext im Prozess\n04.11.2020 Es gibt nichts gutes\, außer man tut es! Commitment in Action\n16.12.2020 Annehmen was ist\, sagt sich so leicht ….  ein Abend zu Akzeptanz\n27.01.2021 Was ist denn JETZT los mit uns? Hier und Jetzt und die beraterische Beziehung\n24.02.2021 Und immer schön flexi bleiben. Psychische und soziale Flexibilität üben \n\nAnmeldung unter:\nhttps://www.act-mindful.space/online-seminare/2020/6/24/act-abende-online
URL:https://dgkv.info/termin/act-vertiefen-online-kurs-ueber-8-monate/
ATTACH;FMTTYPE=image/jpeg:https://dgkv.info/wp-content/uploads/2020/12/Kelim-2020.jpg
ORGANIZER;CN="ACT mindful - Hagen B%C3%B6ser und Tom Pinkall":MAILTO:mail@hagen-boeser.de
END:VEVENT
BEGIN:VEVENT
DTSTART;VALUE=DATE:20201210
DTEND;VALUE=DATE:20201212
DTSTAMP:20260424T231336
CREATED:20200619T215151Z
LAST-MODIFIED:20200619T215151Z
UID:4222-1607558400-1607731199@dgkv.info
SUMMARY:Akzeptanz im Fokus von Beratung\, Therapie und Alltag - Online Seminar
DESCRIPTION:Akzeptanz als Fähigkeit und als Geschenk  \nEine wichtige Aussage achtsamkeitsorientierter Beratungs- und Therapieansätze ist es\, sich von seinem Leid nicht ablenken zu lassen\, das Leben zu führen\, das einem wichtig ist. Über Akzeptanz zu sprechen ist relativ leicht. Mit dem\, was schwer ist\, zu leben ist es meist nicht. \nIntuitiv und evolutionär zunächst einmal sinnvoll wenden wir uns meist von dem ab\, was unangenehm und schmerzhaft erscheint. In diesem Ausweichen oder vielen Varianten von Schock- oder Stressreaktionen bleibt dann ein noch kleinerer Teil der Welt wahrnehmbar\, als das ohnehin schon der Fall ist. Handlungen geschehen oft nur noch reaktiv\, kurzfristig\, ohne das zu berücksichtigen\, was langfristig Sinn und Orientierung geben kann. \nBemerken\, was gerade geschieht. Vorsichtige Hinwendungen zum Schmerz zu versuchen\, sich zu öffnen für das\, was Angst macht und wie wir das mit Klient*innen und für uns selbst kultivieren können: Eine Annäherung in Übungen\, Worten und in Stille. \n\nLeitung: Tom Pinkall\nZeiten: jeweils 09.00-12.30 und 14.00-16.30 Uhr\nKosten: 189\,00 €\nAnmeldung unter: https://if-weinheim.de/online-seminare/ \nVoraussetzungen:\nEine einigermaßen stabile Internet- oder Telefonverbindung.\nInstallation der Zoom-Software / App auf dem jeweiligen Gerät
URL:https://dgkv.info/termin/akzeptanz-im-fokus-von-beratung-therapie-und-alltag-online-seminar/
ATTACH;FMTTYPE=:
ORGANIZER;CN="IF Weinheim":MAILTO:info@if-weinheim.de
END:VEVENT
BEGIN:VEVENT
DTSTART;VALUE=DATE:20201211
DTEND;VALUE=DATE:20201213
DTSTAMP:20260424T231336
CREATED:20191220T075740Z
LAST-MODIFIED:20191220T075740Z
UID:3751-1607644800-1607817599@dgkv.info
SUMMARY:ACT 6 - Flexibel als ACT-Therapeut/-in: Skillbuilding
DESCRIPTION:Ein flexibler Umgang mit den 6 Prozessen und den entsprechenden therapeutischen Strategien ist Kernstück der  therapeutischen ACT-Arbeit. In diesem Workshop werden die 6 Kernprozesse über zahlreiche Rollenspiele zur flexiblen Anwendung gebracht.
URL:https://dgkv.info/termin/act-6-flexibel-als-act-therapeut-in-skillbuilding/
LOCATION:Praxis PPPO\, Stadtstr. 11\, Freiurg im Breisgau\, 79104\, Deutschland
CATEGORIES:Workshop
ATTACH;FMTTYPE=:
END:VEVENT
END:VCALENDAR