BEGIN:VCALENDAR
VERSION:2.0
PRODID:-//DGKV - ECPv6.15.20//NONSGML v1.0//EN
CALSCALE:GREGORIAN
METHOD:PUBLISH
X-ORIGINAL-URL:https://dgkv.info
X-WR-CALDESC:Veranstaltungen für DGKV
REFRESH-INTERVAL;VALUE=DURATION:PT1H
X-Robots-Tag:noindex
X-PUBLISHED-TTL:PT1H
BEGIN:VTIMEZONE
TZID:Europe/Berlin
BEGIN:DAYLIGHT
TZOFFSETFROM:+0100
TZOFFSETTO:+0200
TZNAME:CEST
DTSTART:20200329T010000
END:DAYLIGHT
BEGIN:STANDARD
TZOFFSETFROM:+0200
TZOFFSETTO:+0100
TZNAME:CET
DTSTART:20201025T010000
END:STANDARD
BEGIN:DAYLIGHT
TZOFFSETFROM:+0100
TZOFFSETTO:+0200
TZNAME:CEST
DTSTART:20210328T010000
END:DAYLIGHT
BEGIN:STANDARD
TZOFFSETFROM:+0200
TZOFFSETTO:+0100
TZNAME:CET
DTSTART:20211031T010000
END:STANDARD
BEGIN:DAYLIGHT
TZOFFSETFROM:+0100
TZOFFSETTO:+0200
TZNAME:CEST
DTSTART:20220327T010000
END:DAYLIGHT
BEGIN:STANDARD
TZOFFSETFROM:+0200
TZOFFSETTO:+0100
TZNAME:CET
DTSTART:20221030T010000
END:STANDARD
END:VTIMEZONE
BEGIN:VEVENT
DTSTART;TZID=Europe/Berlin:20210707T190000
DTEND;TZID=Europe/Berlin:20210707T203000
DTSTAMP:20260422T100716
CREATED:20211006T203851Z
LAST-MODIFIED:20211129T143401Z
UID:5241-1625684400-1625689800@dgkv.info
SUMMARY:DGKV-KLUBRAUM
DESCRIPTION:ein regelmäßig stattfindender Abend für DGKV-Mitglieder und Interessent:innen an ACT & Co. \nWir werden uns mit ACT & Co. beschäftigen: Übungen machen\, diskutieren\, einander zuhören und kennenlernen. Eine Anmeldung ist nicht nötig: sei einfach da. Im Internet ist genügend Platz.\nEinzelne Personen\, Interessengruppen oder regionale Netzwerk können Gastgeber:in sein für einen der Abende. Meldet Euch gern unter klubraum@dgkv.info
URL:https://dgkv.info/termin/dgkv-klubraum-2/2021-07-07/
LOCATION:Online\, www.zoom.us\, Schweiz
ATTACH;FMTTYPE=image/jpeg:https://dgkv.info/wp-content/uploads/2021/06/Discokugel-1.jpg
ORGANIZER;CN="DGKV AG KLUBRAUM":MAILTO:klubraum@dgkv.info
END:VEVENT
END:VCALENDAR