BEGIN:VCALENDAR
VERSION:2.0
PRODID:-//DGKV - ECPv6.15.20//NONSGML v1.0//EN
CALSCALE:GREGORIAN
METHOD:PUBLISH
X-WR-CALNAME:DGKV
X-ORIGINAL-URL:https://dgkv.info
X-WR-CALDESC:Veranstaltungen für DGKV
REFRESH-INTERVAL;VALUE=DURATION:PT1H
X-Robots-Tag:noindex
X-PUBLISHED-TTL:PT1H
BEGIN:VTIMEZONE
TZID:Europe/Berlin
BEGIN:DAYLIGHT
TZOFFSETFROM:+0100
TZOFFSETTO:+0200
TZNAME:CEST
DTSTART:20200329T010000
END:DAYLIGHT
BEGIN:STANDARD
TZOFFSETFROM:+0200
TZOFFSETTO:+0100
TZNAME:CET
DTSTART:20201025T010000
END:STANDARD
BEGIN:DAYLIGHT
TZOFFSETFROM:+0100
TZOFFSETTO:+0200
TZNAME:CEST
DTSTART:20210328T010000
END:DAYLIGHT
BEGIN:STANDARD
TZOFFSETFROM:+0200
TZOFFSETTO:+0100
TZNAME:CET
DTSTART:20211031T010000
END:STANDARD
BEGIN:DAYLIGHT
TZOFFSETFROM:+0100
TZOFFSETTO:+0200
TZNAME:CEST
DTSTART:20220327T010000
END:DAYLIGHT
BEGIN:STANDARD
TZOFFSETFROM:+0200
TZOFFSETTO:+0100
TZNAME:CET
DTSTART:20221030T010000
END:STANDARD
END:VTIMEZONE
BEGIN:VEVENT
DTSTART;TZID=Europe/Berlin:20211001T090000
DTEND;TZID=Europe/Berlin:20211002T170000
DTSTAMP:20260422T063544
CREATED:20211006T203839Z
LAST-MODIFIED:20211006T203839Z
UID:5147-1633078800-1633194000@dgkv.info
SUMMARY:ACT\, FAP und die therapeutische Beziehung
DESCRIPTION:Die Funktional-Analytische Psychotherapie (FAP) gehört wie ACT zur dritten Welle der VT und wird oft als „Schwestertherapie“ der ACT bezeichnet. Sie betrachtet im Gegensatz zu dieser alle psychischen Probleme vor allem auf der Beziehungsebene. Die therapeutische Beziehung von Mensch zu Mensch im Hier und Jetzt (die therapeutische Beziehung) ist zentral\, da sie eine unmittelbare Verstärkung des gewünschten Beziehungsverhaltens erlaubt. \nKernkonzept ist die Herstellung sicherer Beziehungen mit ACL: Awareness\, Courage und Love. Nähe entsteht demnach zwischen zwei Personen\, wenn A: eine sich ihrer verletzlichen Impulse bewusst ist\, C: sie den Mut aufbringt\, sich damit zu zeigen und L: die andere Person damit wohlwollend und liebevoll umgeht. Das erfordert von der Therapeut*in ein hohes Maß an Authentizität und gezielter Selbstoffenbarung. Der Therapieprozess wird dadurch sehr lebendig\, emotional und intensiv. \nDer Workshop ist vor allem erfahrungsorientiert. Der therapeutische Ansatz wird erläutert und demonstriert. Der größte Teil wird in praktischen Übungen und Real Plays (Rollenspiele mit eigenen Anliegen) stattfinden. Bereitschaft zur Selbstöffnung ist grundlegendes Element von FAP und wird auch im Workshop gebraucht. Die Einladung besteht darin\, die eigene Komfortzone zu verlassen und zugleich innerhalb eines sicheren Rahmens und eigener Grenzen zu verbleiben.
URL:https://dgkv.info/termin/act-fap-und-die-therapeutische-beziehung/
LOCATION:AWP Berlin altes Hafengebäude\, Tempelhofer Damm 227\, Berlin\, Berlin\, 12099\, Deutschland
CATEGORIES:Workshop
ATTACH;FMTTYPE=image/png:https://dgkv.info/wp-content/uploads/2021/02/FAP-Logo.png
END:VEVENT
END:VCALENDAR