BEGIN:VCALENDAR
VERSION:2.0
PRODID:-//DGKV - ECPv6.15.20//NONSGML v1.0//EN
CALSCALE:GREGORIAN
METHOD:PUBLISH
X-ORIGINAL-URL:https://dgkv.info
X-WR-CALDESC:Veranstaltungen für DGKV
REFRESH-INTERVAL;VALUE=DURATION:PT1H
X-Robots-Tag:noindex
X-PUBLISHED-TTL:PT1H
BEGIN:VTIMEZONE
TZID:Europe/Berlin
BEGIN:DAYLIGHT
TZOFFSETFROM:+0100
TZOFFSETTO:+0200
TZNAME:CEST
DTSTART:20200329T010000
END:DAYLIGHT
BEGIN:STANDARD
TZOFFSETFROM:+0200
TZOFFSETTO:+0100
TZNAME:CET
DTSTART:20201025T010000
END:STANDARD
BEGIN:DAYLIGHT
TZOFFSETFROM:+0100
TZOFFSETTO:+0200
TZNAME:CEST
DTSTART:20210328T010000
END:DAYLIGHT
BEGIN:STANDARD
TZOFFSETFROM:+0200
TZOFFSETTO:+0100
TZNAME:CET
DTSTART:20211031T010000
END:STANDARD
BEGIN:DAYLIGHT
TZOFFSETFROM:+0100
TZOFFSETTO:+0200
TZNAME:CEST
DTSTART:20220327T010000
END:DAYLIGHT
BEGIN:STANDARD
TZOFFSETFROM:+0200
TZOFFSETTO:+0100
TZNAME:CET
DTSTART:20221030T010000
END:STANDARD
END:VTIMEZONE
BEGIN:VEVENT
DTSTART;TZID=Europe/Berlin:20211021T190000
DTEND;TZID=Europe/Berlin:20211021T210000
DTSTAMP:20260422T052141
CREATED:20211006T211132Z
LAST-MODIFIED:20211006T211132Z
UID:5455-1634842800-1634850000@dgkv.info
SUMMARY:DGKV Mitgliederversammlung 2021
DESCRIPTION:Liebe Kolleginnen und Kollegen\, liebe Freunde\, \nwir laden euch ganz herzlich zu unserer ordentlichen Mitgliederversammlung am Donnerstag\, den 21. Oktober 2021\, von 19.00 Uhr bis ca. 21.00 Uhr ein; \nVeranstaltungsort: Online über die Plattform Zoom. Der entsprechende Link befindet sich in dieser Einladungs-Email (siehe unten).\nWir würden uns sehr freuen\, wenn Ihr unter dem Tagesordnungspunkt „Berichte der Mitglieder“ über Eure Aktivitäten in der DGKV\n(z.B. im Rahmen der Netzwerke und SIGs o.ä.) berichtet. Bitte meldet Euch hierfür unter vorstand@dgkv.de an. \nStimmberechtigt sind Mitglieder\, welche ihren Jahresbeitrag 2021 bezahlt haben. \nAnträge zur Tagesordnung bitte bis 14.10.21 an Tanja Cordshagen-Fischer\, vorstand@dgkv.info \nVorgesehene Tagesordnung:\n1. Begrüßung und Eröffnung der Mitgliederversammlung\n2. Feststellung der ordnungsgemäßen Einladung und Beschlussfähigkeit\n3.Genehmigung der Tagesordnung\n4. Satzungsänderung (Anhängend mit roter Markierung im Text)\n5. Bericht des Vorstands über die Vereinsperiode seit der letzten Mitgliederversammlung\n6. Berichte der Mitglieder\n7. Bericht der Kassenwart*in\n8. Bericht der Kassenprüfung\n9. Entlastung des Vorstands\n10. Festlegung des jährlichen Mitgliederbeitrags\n11. Wahl der Kassenprüfer*innen\n12.Verkündigung Wahlergebnis\n13.Verabschiedung der scheidenden Vorstände und Vorstellung der neu gewählten Vorstände\n14.Verabschiedung Haushaltsplan für 2022\n15. Ausblick auf das nächste Vereinsjahr und Ideensammlung für die DGKV\n16. Verschiedenes \nWir freuen uns auf ein anregendes\, zukunftsweisendes Treffen!\n 
URL:https://dgkv.info/termin/dgkv-mitgliederversammlung-2021/
LOCATION:Zoom\, Online-Seminar
ORGANIZER;CN="DGKV AG KLUBRAUM":MAILTO:klubraum@dgkv.info
END:VEVENT
END:VCALENDAR