BEGIN:VCALENDAR
VERSION:2.0
PRODID:-//DGKV - ECPv6.15.20//NONSGML v1.0//EN
CALSCALE:GREGORIAN
METHOD:PUBLISH
X-ORIGINAL-URL:https://dgkv.info
X-WR-CALDESC:Veranstaltungen für DGKV
REFRESH-INTERVAL;VALUE=DURATION:PT1H
X-Robots-Tag:noindex
X-PUBLISHED-TTL:PT1H
BEGIN:VTIMEZONE
TZID:Europe/Berlin
BEGIN:DAYLIGHT
TZOFFSETFROM:+0100
TZOFFSETTO:+0200
TZNAME:CEST
DTSTART:20210328T010000
END:DAYLIGHT
BEGIN:STANDARD
TZOFFSETFROM:+0200
TZOFFSETTO:+0100
TZNAME:CET
DTSTART:20211031T010000
END:STANDARD
BEGIN:DAYLIGHT
TZOFFSETFROM:+0100
TZOFFSETTO:+0200
TZNAME:CEST
DTSTART:20220327T010000
END:DAYLIGHT
BEGIN:STANDARD
TZOFFSETFROM:+0200
TZOFFSETTO:+0100
TZNAME:CET
DTSTART:20221030T010000
END:STANDARD
BEGIN:DAYLIGHT
TZOFFSETFROM:+0100
TZOFFSETTO:+0200
TZNAME:CEST
DTSTART:20230326T010000
END:DAYLIGHT
BEGIN:STANDARD
TZOFFSETFROM:+0200
TZOFFSETTO:+0100
TZNAME:CET
DTSTART:20231029T010000
END:STANDARD
END:VTIMEZONE
BEGIN:VEVENT
DTSTART;VALUE=DATE:20220505
DTEND;VALUE=DATE:20220507
DTSTAMP:20260421T185806
CREATED:20211219T111700Z
LAST-MODIFIED:20211219T111700Z
UID:5642-1651708800-1651881599@dgkv.info
SUMMARY:Achtsamkeit und Mitgefühl in Beratung und Therapie
DESCRIPTION:Die Beschäftigung mit einer Praxis der Achtsamkeit und des Mitgefühls haben vielen Menschen zu einem hilfreicheren Umgang mit stressigen Situationen\, mit körperlichen und seelischen Schmerzen verholfen. \nIn den letzten Jahren entwickelten sich viele Konzepte\, die alte Meditationsformen wie Vipassana und Zen-Meditation und Angebote des westlichen Gesundheitssystems miteinander in Dialog brachten. Im Bereich der Gesundheitsfürsorge und Behandlung sogenannter chronischer Erkrankungen ist dabei MBSR (mindfulness based stress reduction) zu nennen. \nIm Rahmen der Psychotherapie stößt man rasch auf ACT (Acceptance and Commitment Therapy) und die Compassion Focused Therapy (CFT). All diese Ansätze beschäftigen sich im Kern mit menschlichem Leid und der Frage\, was wir für uns und mit unseren KlientInnen tun können\, um ihm immer wieder zu begegnen. \nDie Seminartage führen in die Grundlagen und viele Übungen der Achtsamkeits- und Mitgefühlspraxis ein. Die Übungen\, die oft auch einen körperlichen Bezug haben\, verdeutlichen das breite Spektrum an Zugängen zu diesen Themen. Wir werden kontinuierlich im Blick haben\, wie diese Übungen und Sichtweisen ihren Weg in Beratung und Therapie finden können. \nDas Seminar findet über Zoom statt und auch wenn es sicher nicht die persönliche Begegnung im Raum ersetzt\, können wir gemeinsam üben\, atmen\, Beratungssequenzen simulieren und uns in unseren jeweiligen Räumen einen Meditationsplatz einrichten. \nIch freue mich auf Sie und Euch! \nLeitung: Tom Pinkall\nZeiten jeweils:\n09.00-12.30 Uhr und 14.00-16.30 Uhr\nKosten: 220\,00 €
URL:https://dgkv.info/termin/achtsamkeit-und-mitgefuehl-in-beratung-und-therapie/
LOCATION:Zoom\, Online-Seminar
CATEGORIES:Workshop
ATTACH;FMTTYPE=image/jpeg:https://dgkv.info/wp-content/uploads/2021/12/IMG_2250-scaled.jpg
ORGANIZER;CN="IF Weinheim":MAILTO:info@if-weinheim.de
END:VEVENT
END:VCALENDAR