BEGIN:VCALENDAR
VERSION:2.0
PRODID:-//DGKV - ECPv6.15.20//NONSGML v1.0//EN
CALSCALE:GREGORIAN
METHOD:PUBLISH
X-ORIGINAL-URL:https://dgkv.info
X-WR-CALDESC:Veranstaltungen für DGKV
REFRESH-INTERVAL;VALUE=DURATION:PT1H
X-Robots-Tag:noindex
X-PUBLISHED-TTL:PT1H
BEGIN:VTIMEZONE
TZID:Europe/Berlin
BEGIN:DAYLIGHT
TZOFFSETFROM:+0100
TZOFFSETTO:+0200
TZNAME:CEST
DTSTART:20210328T010000
END:DAYLIGHT
BEGIN:STANDARD
TZOFFSETFROM:+0200
TZOFFSETTO:+0100
TZNAME:CET
DTSTART:20211031T010000
END:STANDARD
BEGIN:DAYLIGHT
TZOFFSETFROM:+0100
TZOFFSETTO:+0200
TZNAME:CEST
DTSTART:20220327T010000
END:DAYLIGHT
BEGIN:STANDARD
TZOFFSETFROM:+0200
TZOFFSETTO:+0100
TZNAME:CET
DTSTART:20221030T010000
END:STANDARD
BEGIN:DAYLIGHT
TZOFFSETFROM:+0100
TZOFFSETTO:+0200
TZNAME:CEST
DTSTART:20230326T010000
END:DAYLIGHT
BEGIN:STANDARD
TZOFFSETFROM:+0200
TZOFFSETTO:+0100
TZNAME:CET
DTSTART:20231029T010000
END:STANDARD
END:VTIMEZONE
BEGIN:VEVENT
DTSTART;TZID=Europe/Berlin:20220507T090000
DTEND;TZID=Europe/Berlin:20220508T163000
DTSTAMP:20260421T185749
CREATED:20211006T203836Z
LAST-MODIFIED:20211110T142400Z
UID:5141-1651914000-1652027400@dgkv.info
SUMMARY:ACT WER-T erleben. DNA-V auf Deutsch: ein neues\, prozessorientiertes Modell
DESCRIPTION:Louise Hayes und Joseph Ciarrochi haben auf der Basis von ACT das DNA-V-Modell entwickelt. Die einzelnen Buchstaben stehen für Discoverer\, Noticer\, Advisor – Values (dt. WER-T: Wahrnehmer\, Entdecker\, Ratgeber – Total Wichtig). Doch auch für die Arbeit mit Erwachsenen ist dieses Modell ausgesprochen gut anwendbar. \n\n\n\nDer Workshop gibt eine kurze theoretische Einführung in das Modell und seine Kernprozesse.  Dann werden die einzelnen Komponenten anhand von Metaphern und Übungen veranschaulicht und die Anwendung im Rollenspiel eingeübt. Außerdem sollen alle Teilnehmer*innen selbstständig üben. \nDer Workshop richtet sich an Anfänger*innen und Fortgeschrittene. Kenntnisse in der ACT sind keine Voraussetzung. Da das Modell für Kinder und Jugendliche entwickelt wurde\, jedoch auch sehr gut für Erwachsene anwendbar ist\, ist der Workshop für alle im psychosozialen Bereich Tätigen geeignet.
URL:https://dgkv.info/termin/act-wer-t-erleben-dna-v-auf-deutsch-ein-neues-prozessorientiertes-modell/2022-05-07/
LOCATION:Dresden\, Deutschland
CATEGORIES:Workshop
ATTACH;FMTTYPE=image/jpeg:https://dgkv.info/wp-content/uploads/2021/02/WER-T-DNA-V-Scheibe.jpg
END:VEVENT
END:VCALENDAR