BEGIN:VCALENDAR
VERSION:2.0
PRODID:-//DGKV - ECPv6.15.20//NONSGML v1.0//EN
CALSCALE:GREGORIAN
METHOD:PUBLISH
X-ORIGINAL-URL:https://dgkv.info
X-WR-CALDESC:Veranstaltungen für DGKV
REFRESH-INTERVAL;VALUE=DURATION:PT1H
X-Robots-Tag:noindex
X-PUBLISHED-TTL:PT1H
BEGIN:VTIMEZONE
TZID:Europe/Berlin
BEGIN:DAYLIGHT
TZOFFSETFROM:+0100
TZOFFSETTO:+0200
TZNAME:CEST
DTSTART:20210328T010000
END:DAYLIGHT
BEGIN:STANDARD
TZOFFSETFROM:+0200
TZOFFSETTO:+0100
TZNAME:CET
DTSTART:20211031T010000
END:STANDARD
BEGIN:DAYLIGHT
TZOFFSETFROM:+0100
TZOFFSETTO:+0200
TZNAME:CEST
DTSTART:20220327T010000
END:DAYLIGHT
BEGIN:STANDARD
TZOFFSETFROM:+0200
TZOFFSETTO:+0100
TZNAME:CET
DTSTART:20221030T010000
END:STANDARD
BEGIN:DAYLIGHT
TZOFFSETFROM:+0100
TZOFFSETTO:+0200
TZNAME:CEST
DTSTART:20230326T010000
END:DAYLIGHT
BEGIN:STANDARD
TZOFFSETFROM:+0200
TZOFFSETTO:+0100
TZNAME:CET
DTSTART:20231029T010000
END:STANDARD
END:VTIMEZONE
BEGIN:VEVENT
DTSTART;TZID=Europe/Berlin:20220509T080000
DTEND;TZID=Europe/Berlin:20220510T170000
DTSTAMP:20260421T185908
CREATED:20211110T152310Z
LAST-MODIFIED:20211110T152310Z
UID:5524-1652083200-1652202000@dgkv.info
SUMMARY:Die Integration der MUSE. Gefühle und Bedürfnisse in der Therapie differenziert erfahrbar machen.
DESCRIPTION:Die Integration der Multiplen und Spezifischen Emotionen (MUSE) unterstützt Menschen darin\, Gefühlen und Bedürfnissen mehr Raum zu geben\, sie wohlwollend und akzeptierend zu explorieren. Das Wohlwollen spielt hier eine große Rolle. Verschiedene Varianten von Selbst-Mitgefühl\, Offenheit und Warmherzigkeit werden erkundet und als Interventionen nutzbar gemacht. \nHierzu sind die Klinische RFT  und der Funktionale Kontextualismus besonders hilfreich. Grundkonzepte werden soweit erläutert\, wie sie zur Erkundung und Differenzierung von Gefühlen und Bedürfnissen hilfreich sind. Der Workshop zielt darauf ab\, den Ansatz der Integration der MUSE in unterschiedlichen Therapieformen nutzen zu können.
URL:https://dgkv.info/termin/die-integration-der-muse-gefuehle-und-beduerfnisse-in-der-therapie-differenziert-erfahrbar-machen-2/
LOCATION:Dresden\, Deutschland
CATEGORIES:Workshop
END:VEVENT
END:VCALENDAR