BEGIN:VCALENDAR
VERSION:2.0
PRODID:-//DGKV - ECPv6.15.20//NONSGML v1.0//EN
CALSCALE:GREGORIAN
METHOD:PUBLISH
X-WR-CALNAME:DGKV
X-ORIGINAL-URL:https://dgkv.info
X-WR-CALDESC:Veranstaltungen für DGKV
REFRESH-INTERVAL;VALUE=DURATION:PT1H
X-Robots-Tag:noindex
X-PUBLISHED-TTL:PT1H
BEGIN:VTIMEZONE
TZID:Europe/Berlin
BEGIN:DAYLIGHT
TZOFFSETFROM:+0100
TZOFFSETTO:+0200
TZNAME:CEST
DTSTART:20210328T010000
END:DAYLIGHT
BEGIN:STANDARD
TZOFFSETFROM:+0200
TZOFFSETTO:+0100
TZNAME:CET
DTSTART:20211031T010000
END:STANDARD
BEGIN:DAYLIGHT
TZOFFSETFROM:+0100
TZOFFSETTO:+0200
TZNAME:CEST
DTSTART:20220327T010000
END:DAYLIGHT
BEGIN:STANDARD
TZOFFSETFROM:+0200
TZOFFSETTO:+0100
TZNAME:CET
DTSTART:20221030T010000
END:STANDARD
BEGIN:DAYLIGHT
TZOFFSETFROM:+0100
TZOFFSETTO:+0200
TZNAME:CEST
DTSTART:20230326T010000
END:DAYLIGHT
BEGIN:STANDARD
TZOFFSETFROM:+0200
TZOFFSETTO:+0100
TZNAME:CET
DTSTART:20231029T010000
END:STANDARD
END:VTIMEZONE
BEGIN:VEVENT
DTSTART;VALUE=DATE:20220811
DTEND;VALUE=DATE:20220813
DTSTAMP:20260421T121303
CREATED:20211227T111749Z
LAST-MODIFIED:20211227T112023Z
UID:5707-1660176000-1660348799@dgkv.info
SUMMARY:ACT III - Rainer Sonntag
DESCRIPTION:ACT für Fortgeschrittene: Wunschkonzert. Wenngleich ich auch für diesen Workshop Inhalte vorbereitet habe. Richtet sich die Ausgestaltung noch stärker als in ACT II nach den Interessen der Teilnehmenden. Wir können theoretische Fragen erörtern oder Probleme der Praxis gemeinsam in Rollenspielen untersuchen oder durch das Hexaflex tanzen.
URL:https://dgkv.info/termin/act-iii/
END:VEVENT
END:VCALENDAR