BEGIN:VCALENDAR
VERSION:2.0
PRODID:-//DGKV - ECPv6.15.20//NONSGML v1.0//EN
CALSCALE:GREGORIAN
METHOD:PUBLISH
X-WR-CALNAME:DGKV
X-ORIGINAL-URL:https://dgkv.info
X-WR-CALDESC:Veranstaltungen für DGKV
REFRESH-INTERVAL;VALUE=DURATION:PT1H
X-Robots-Tag:noindex
X-PUBLISHED-TTL:PT1H
BEGIN:VTIMEZONE
TZID:Europe/Berlin
BEGIN:DAYLIGHT
TZOFFSETFROM:+0100
TZOFFSETTO:+0200
TZNAME:CEST
DTSTART:20210328T010000
END:DAYLIGHT
BEGIN:STANDARD
TZOFFSETFROM:+0200
TZOFFSETTO:+0100
TZNAME:CET
DTSTART:20211031T010000
END:STANDARD
BEGIN:DAYLIGHT
TZOFFSETFROM:+0100
TZOFFSETTO:+0200
TZNAME:CEST
DTSTART:20220327T010000
END:DAYLIGHT
BEGIN:STANDARD
TZOFFSETFROM:+0200
TZOFFSETTO:+0100
TZNAME:CET
DTSTART:20221030T010000
END:STANDARD
BEGIN:DAYLIGHT
TZOFFSETFROM:+0100
TZOFFSETTO:+0200
TZNAME:CEST
DTSTART:20230326T010000
END:DAYLIGHT
BEGIN:STANDARD
TZOFFSETFROM:+0200
TZOFFSETTO:+0100
TZNAME:CET
DTSTART:20231029T010000
END:STANDARD
END:VTIMEZONE
BEGIN:VEVENT
DTSTART;VALUE=DATE:20221211
DTEND;VALUE=DATE:20221212
DTSTAMP:20260421T140248
CREATED:20220727T161618Z
LAST-MODIFIED:20220727T161618Z
UID:5927-1670716800-1670803199@dgkv.info
SUMMARY:Bewußt Selbsten - statt selbstbewusst Sein
DESCRIPTION:Konzept und Methoden zum “Selbst” aus ACT und RFT in vier Schritten\nHow to hold your self together?\nLet your self fall apart.\nWhen it is gone\nwhere it wants to\nsee where\nyou are. \n– Robert Lax \n\nDas Online-Seminar greift einen wesentlichen Aspekt der Akzeptanz- und Commitment Therapie (ACT) und der Bezugsrahmentheorie (RFT) auf und stellt die Frage nach dem Selbst. Wir wollen hier “Selbst” als Tätigkeit verbisch fassen; von “selbsten” sprechen als fortwährende Aktivität unseres Geistes. Wir merken\, was geschieht\, wenn wir die Bilder über uns “selbst” zu fest fassen. Wieviel Leid wir uns zufügen können\, wenn wir uns selbst vergessen. Andererseits kennen wir Selbstvergessenheit auch als Flow und Eintauchen. Selbstverständlich geht es im Workshop nicht nur um uns\, sondern auch um methodische Schritte der Annäherungen an diesen Aspekt des Hexaflexes und des kontextuellen Denkens. Wie können wir mit Klient:innen Zugänge finden sich ‘selbst’ neu zu betrachten\, neu zu beschreiben\, neu zu empfinden\, viabler\, lebendiger\, anders? \nUnd wer hat eben diese Zeilen gelesen? \nZeitplan: \n11.12.2022 von 10-13 und 14.30 bis 17 Uhr\n26.01.2023 von 18-21 Uhr\n22.03.2023 von 18-21 Uhr\n10.05.2023 von 18-21 Uhr \nDer Kurs ist nur komplett buchbar. \nLeitung:\nRalf Steinkopff und Tom Pinkall
URL:https://dgkv.info/termin/bewusst-selbsten-statt-selbstbewusst-sein/
LOCATION:Zoom\, Online-Seminar
CATEGORIES:Workshop
ATTACH;FMTTYPE=image/jpeg:https://dgkv.info/wp-content/uploads/2022/07/Selbstmitgefuehl.jpeg
ORGANIZER;CN="IF Weinheim":MAILTO:info@if-weinheim.de
END:VEVENT
END:VCALENDAR