BEGIN:VCALENDAR
VERSION:2.0
PRODID:-//DGKV - ECPv6.15.20//NONSGML v1.0//EN
CALSCALE:GREGORIAN
METHOD:PUBLISH
X-ORIGINAL-URL:https://dgkv.info
X-WR-CALDESC:Veranstaltungen für DGKV
REFRESH-INTERVAL;VALUE=DURATION:PT1H
X-Robots-Tag:noindex
X-PUBLISHED-TTL:PT1H
BEGIN:VTIMEZONE
TZID:Europe/Berlin
BEGIN:DAYLIGHT
TZOFFSETFROM:+0100
TZOFFSETTO:+0200
TZNAME:CEST
DTSTART:20220327T010000
END:DAYLIGHT
BEGIN:STANDARD
TZOFFSETFROM:+0200
TZOFFSETTO:+0100
TZNAME:CET
DTSTART:20221030T010000
END:STANDARD
BEGIN:DAYLIGHT
TZOFFSETFROM:+0100
TZOFFSETTO:+0200
TZNAME:CEST
DTSTART:20230326T010000
END:DAYLIGHT
BEGIN:STANDARD
TZOFFSETFROM:+0200
TZOFFSETTO:+0100
TZNAME:CET
DTSTART:20231029T010000
END:STANDARD
BEGIN:DAYLIGHT
TZOFFSETFROM:+0100
TZOFFSETTO:+0200
TZNAME:CEST
DTSTART:20240331T010000
END:DAYLIGHT
BEGIN:STANDARD
TZOFFSETFROM:+0200
TZOFFSETTO:+0100
TZNAME:CET
DTSTART:20241027T010000
END:STANDARD
END:VTIMEZONE
BEGIN:VEVENT
DTSTART;VALUE=DATE:20230113
DTEND;VALUE=DATE:20230115
DTSTAMP:20260421T153106
CREATED:20220928T104957Z
LAST-MODIFIED:20220928T105024Z
UID:6009-1673568000-1673740799@dgkv.info
SUMMARY:ACT nach Trauma
DESCRIPTION:ACT nach Trauma – zurück ins Leben: Spezifische Interventionen und Aspekte der ACT in der Arbeit mit Trauma-Betroffenen \nDipl.-Psych. Mareile Rahming
URL:https://dgkv.info/termin/act-nach-trauma/
LOCATION:awp Berlin\, Witzlebenstrasse 30A\, Berlin\, 14057\, Deutschland
CATEGORIES:Workshop
GEO:52.5081484;13.2935341
X-APPLE-STRUCTURED-LOCATION;VALUE=URI;X-ADDRESS=awp Berlin Witzlebenstrasse 30A Berlin 14057 Deutschland;X-APPLE-RADIUS=500;X-TITLE=Witzlebenstrasse 30A:geo:13.2935341,52.5081484
END:VEVENT
END:VCALENDAR