BEGIN:VCALENDAR
VERSION:2.0
PRODID:-//DGKV - ECPv6.15.20//NONSGML v1.0//EN
CALSCALE:GREGORIAN
METHOD:PUBLISH
X-ORIGINAL-URL:https://dgkv.info
X-WR-CALDESC:Veranstaltungen für DGKV
REFRESH-INTERVAL;VALUE=DURATION:PT1H
X-Robots-Tag:noindex
X-PUBLISHED-TTL:PT1H
BEGIN:VTIMEZONE
TZID:Europe/Berlin
BEGIN:DAYLIGHT
TZOFFSETFROM:+0100
TZOFFSETTO:+0200
TZNAME:CEST
DTSTART:20220327T010000
END:DAYLIGHT
BEGIN:STANDARD
TZOFFSETFROM:+0200
TZOFFSETTO:+0100
TZNAME:CET
DTSTART:20221030T010000
END:STANDARD
BEGIN:DAYLIGHT
TZOFFSETFROM:+0100
TZOFFSETTO:+0200
TZNAME:CEST
DTSTART:20230326T010000
END:DAYLIGHT
BEGIN:STANDARD
TZOFFSETFROM:+0200
TZOFFSETTO:+0100
TZNAME:CET
DTSTART:20231029T010000
END:STANDARD
BEGIN:DAYLIGHT
TZOFFSETFROM:+0100
TZOFFSETTO:+0200
TZNAME:CEST
DTSTART:20240331T010000
END:DAYLIGHT
BEGIN:STANDARD
TZOFFSETFROM:+0200
TZOFFSETTO:+0100
TZNAME:CET
DTSTART:20241027T010000
END:STANDARD
END:VTIMEZONE
BEGIN:VEVENT
DTSTART;TZID=Europe/Berlin:20230324T140000
DTEND;TZID=Europe/Berlin:20230325T180000
DTSTAMP:20260421T184222
CREATED:20220816T064813Z
LAST-MODIFIED:20220816T064813Z
UID:5943-1679666400-1679767200@dgkv.info
SUMMARY:Einführungsworkshop in die ACT-KJP
DESCRIPTION:Der zweitägige Workshop führt erfahrungsbezogen in die ACT-Kernprozesse unter Berücksichtigung der jeweiligen Altersgruppen ein und bietet eine erste Übersicht über die theoretischen Grundlagen der ACT. Außerdem werden erste Fallkonzepte mit Hilfe der Matrix erstellt.
URL:https://dgkv.info/termin/einfuehrungsworkshop-in-die-act-kjp-2/
LOCATION:ACT-Lab-Hamburg\, Bahnhofstraße 15\, 22880 Wedel\, 22880\, Deutschland
CATEGORIES:Workshop
ATTACH;FMTTYPE=image/png:https://dgkv.info/wp-content/uploads/2022/08/ACT-LAB-Logo.png
ORGANIZER;CN="Tanja Cordshagen-Fischer":MAILTO:info@praxis-fischer-cordshagen.de
END:VEVENT
END:VCALENDAR