BEGIN:VCALENDAR
VERSION:2.0
PRODID:-//DGKV - ECPv6.15.20//NONSGML v1.0//EN
CALSCALE:GREGORIAN
METHOD:PUBLISH
X-ORIGINAL-URL:https://dgkv.info
X-WR-CALDESC:Veranstaltungen für DGKV
REFRESH-INTERVAL;VALUE=DURATION:PT1H
X-Robots-Tag:noindex
X-PUBLISHED-TTL:PT1H
BEGIN:VTIMEZONE
TZID:Europe/Berlin
BEGIN:DAYLIGHT
TZOFFSETFROM:+0100
TZOFFSETTO:+0200
TZNAME:CEST
DTSTART:20230326T010000
END:DAYLIGHT
BEGIN:STANDARD
TZOFFSETFROM:+0200
TZOFFSETTO:+0100
TZNAME:CET
DTSTART:20231029T010000
END:STANDARD
BEGIN:DAYLIGHT
TZOFFSETFROM:+0100
TZOFFSETTO:+0200
TZNAME:CEST
DTSTART:20240331T010000
END:DAYLIGHT
BEGIN:STANDARD
TZOFFSETFROM:+0200
TZOFFSETTO:+0100
TZNAME:CET
DTSTART:20241027T010000
END:STANDARD
BEGIN:DAYLIGHT
TZOFFSETFROM:+0100
TZOFFSETTO:+0200
TZNAME:CEST
DTSTART:20250330T010000
END:DAYLIGHT
BEGIN:STANDARD
TZOFFSETFROM:+0200
TZOFFSETTO:+0100
TZNAME:CET
DTSTART:20251026T010000
END:STANDARD
END:VTIMEZONE
BEGIN:VEVENT
DTSTART;TZID=Europe/Berlin:20241107T190000
DTEND;TZID=Europe/Berlin:20241107T210000
DTSTAMP:20260424T102940
CREATED:20241017T142944Z
LAST-MODIFIED:20260204T132548Z
UID:6811-1731006000-1731013200@dgkv.info
SUMMARY:DGKV Mitgliederversammlung 2024
DESCRIPTION:Alle Jahre wieder ist Mitgliederversammlungszeit! \nWir verleihen den Forschungspreis\, die Schatzmeister berichten\, das Wahlergebnis wird bekannt gegeben\, Vorstandsmitglieder gehen und kommen\, Beschlüsse und Budgets werden verabschiedet und es gibt allerlei Austausch und News aus den Gruppen. \nWir freuen uns auf euer zahlreiches Kommen!
URL:https://dgkv.info/termin/dgkv-mitgliederversammlung-2025/
ATTACH;FMTTYPE=image/jpeg:https://dgkv.info/wp-content/uploads/2024/10/happy-woman-chatting-with-friends-online_74855-14073.jpg
END:VEVENT
END:VCALENDAR