BEGIN:VCALENDAR
VERSION:2.0
PRODID:-//DGKV - ECPv6.15.20//NONSGML v1.0//EN
CALSCALE:GREGORIAN
METHOD:PUBLISH
X-WR-CALNAME:DGKV
X-ORIGINAL-URL:https://dgkv.info
X-WR-CALDESC:Veranstaltungen für DGKV
REFRESH-INTERVAL;VALUE=DURATION:PT1H
X-Robots-Tag:noindex
X-PUBLISHED-TTL:PT1H
BEGIN:VTIMEZONE
TZID:Europe/Berlin
BEGIN:DAYLIGHT
TZOFFSETFROM:+0100
TZOFFSETTO:+0200
TZNAME:CEST
DTSTART:20230326T010000
END:DAYLIGHT
BEGIN:STANDARD
TZOFFSETFROM:+0200
TZOFFSETTO:+0100
TZNAME:CET
DTSTART:20231029T010000
END:STANDARD
BEGIN:DAYLIGHT
TZOFFSETFROM:+0100
TZOFFSETTO:+0200
TZNAME:CEST
DTSTART:20240331T010000
END:DAYLIGHT
BEGIN:STANDARD
TZOFFSETFROM:+0200
TZOFFSETTO:+0100
TZNAME:CET
DTSTART:20241027T010000
END:STANDARD
BEGIN:DAYLIGHT
TZOFFSETFROM:+0100
TZOFFSETTO:+0200
TZNAME:CEST
DTSTART:20250330T010000
END:DAYLIGHT
BEGIN:STANDARD
TZOFFSETFROM:+0200
TZOFFSETTO:+0100
TZNAME:CET
DTSTART:20251026T010000
END:STANDARD
END:VTIMEZONE
BEGIN:VEVENT
DTSTART;TZID=Europe/Berlin:20241126T120000
DTEND;TZID=Europe/Berlin:20241126T133000
DTSTAMP:20260422T094202
CREATED:20241111T104957Z
LAST-MODIFIED:20241111T105336Z
UID:6864-1732622400-1732627800@dgkv.info
SUMMARY:ACT Intervisionsgruppe München
DESCRIPTION:Wir sind eine private Gruppe Psychotherapeut*innen\, Psychiater*innen mit  ACT Schwerpunkt. Wir treffen uns regelmäßig an unterschiedlichen Orten im Großraum München. Bei Interesse bitte bei Christine Adler: actpraxis.adler@freenet.de melden. Nach Rücksprache mit den Gruppenmitgliedern ist ein Einstieg in die laufende Gruppe möglich.
URL:https://dgkv.info/termin/act-intervisionsgruppe-muenchen/
END:VEVENT
END:VCALENDAR