BEGIN:VCALENDAR
VERSION:2.0
PRODID:-//DGKV - ECPv6.15.20//NONSGML v1.0//EN
CALSCALE:GREGORIAN
METHOD:PUBLISH
X-ORIGINAL-URL:https://dgkv.info
X-WR-CALDESC:Veranstaltungen für DGKV
REFRESH-INTERVAL;VALUE=DURATION:PT1H
X-Robots-Tag:noindex
X-PUBLISHED-TTL:PT1H
BEGIN:VTIMEZONE
TZID:Europe/Berlin
BEGIN:DAYLIGHT
TZOFFSETFROM:+0100
TZOFFSETTO:+0200
TZNAME:CEST
DTSTART:20240331T010000
END:DAYLIGHT
BEGIN:STANDARD
TZOFFSETFROM:+0200
TZOFFSETTO:+0100
TZNAME:CET
DTSTART:20241027T010000
END:STANDARD
BEGIN:DAYLIGHT
TZOFFSETFROM:+0100
TZOFFSETTO:+0200
TZNAME:CEST
DTSTART:20250330T010000
END:DAYLIGHT
BEGIN:STANDARD
TZOFFSETFROM:+0200
TZOFFSETTO:+0100
TZNAME:CET
DTSTART:20251026T010000
END:STANDARD
BEGIN:DAYLIGHT
TZOFFSETFROM:+0100
TZOFFSETTO:+0200
TZNAME:CEST
DTSTART:20260329T010000
END:DAYLIGHT
BEGIN:STANDARD
TZOFFSETFROM:+0200
TZOFFSETTO:+0100
TZNAME:CET
DTSTART:20261025T010000
END:STANDARD
END:VTIMEZONE
BEGIN:VEVENT
DTSTART;VALUE=DATE:20250303
DTEND;VALUE=DATE:20250305
DTSTAMP:20260422T050811
CREATED:20241030T201611Z
LAST-MODIFIED:20241030T201611Z
UID:6829-1740960000-1741132799@dgkv.info
SUMMARY:ACT TO GO Teil II - Verzeihen\, Abschied und Trauer: Weitere Tools für den therapeutischen und beraterischen Alltag
DESCRIPTION:In diesem Workshop werden die Grundlagen (wissenschaftliche Basis\, therapeutischen Kernprozesse\, RFT) als bekannt vorausgesetzt und nur kurz wiederholt. Schwerpunkt ist die konkrete\, praktische Anwendung der ACT-Prinzipien und Methoden sowie der „Relational Frame Theory“ (RFT) in der therapeutischen und beraterischen Arbeit in verschiedenen Kontexten. Besondere Schwerpunkte des Workshops sind die Auseinandersetzung mit den Themen Verzeihen\, Abschied und Trauer. Bezugnehmend auf diese werden gemeinsam Fallkonzeptionen und Interventionsmöglichkeiten abgeleitet. In erfahrungsgeleiteten Übungen (Rollenspielen\, Fallbeispielen\, Selbsterfahrung in Einzelarbeit und in der Kleingruppe) werden therapeutische Methoden und Fertigkeiten demonstriert\, eingeübt und reflektiert. \nDer Kenntnisstand der Teilnehmenden fließt als Kontextfaktor flexibel in den Workshop mit ein. Gemeinsamkeiten\, Bereicherungen und Unterschiede zwischen der ACT\, der Verhaltenstherapie und der Systemischen Therapie werden ausgewertet und diskutiert.
URL:https://dgkv.info/termin/act-to-go-teil-ii-verzeihen-abschied-und-trauer-weitere-tools-fuer-den-therapeutischen-und-beraterischen-alltag/
LOCATION:Institut für systemische Stduien Hamburg\, Neumünstersche Straße 14\, Hamburg\, Hamburg\, 20251\, Germany
ORGANIZER;CN="Institut f%C3%BCr systemische Studien e.V.":MAILTO:info@systemischestudien.de
END:VEVENT
END:VCALENDAR