BEGIN:VCALENDAR
VERSION:2.0
PRODID:-//DGKV - ECPv6.15.20//NONSGML v1.0//EN
CALSCALE:GREGORIAN
METHOD:PUBLISH
X-WR-CALNAME:DGKV
X-ORIGINAL-URL:https://dgkv.info
X-WR-CALDESC:Veranstaltungen für DGKV
REFRESH-INTERVAL;VALUE=DURATION:PT1H
X-Robots-Tag:noindex
X-PUBLISHED-TTL:PT1H
BEGIN:VTIMEZONE
TZID:Europe/Berlin
BEGIN:DAYLIGHT
TZOFFSETFROM:+0100
TZOFFSETTO:+0200
TZNAME:CEST
DTSTART:20240331T010000
END:DAYLIGHT
BEGIN:STANDARD
TZOFFSETFROM:+0200
TZOFFSETTO:+0100
TZNAME:CET
DTSTART:20241027T010000
END:STANDARD
BEGIN:DAYLIGHT
TZOFFSETFROM:+0100
TZOFFSETTO:+0200
TZNAME:CEST
DTSTART:20250330T010000
END:DAYLIGHT
BEGIN:STANDARD
TZOFFSETFROM:+0200
TZOFFSETTO:+0100
TZNAME:CET
DTSTART:20251026T010000
END:STANDARD
BEGIN:DAYLIGHT
TZOFFSETFROM:+0100
TZOFFSETTO:+0200
TZNAME:CEST
DTSTART:20260329T010000
END:DAYLIGHT
BEGIN:STANDARD
TZOFFSETFROM:+0200
TZOFFSETTO:+0100
TZNAME:CET
DTSTART:20261025T010000
END:STANDARD
END:VTIMEZONE
BEGIN:VEVENT
DTSTART;VALUE=DATE:20250508
DTEND;VALUE=DATE:20250510
DTSTAMP:20260422T020748
CREATED:20240907T141103Z
LAST-MODIFIED:20240907T141103Z
UID:6683-1746662400-1746835199@dgkv.info
SUMMARY:ACT auf den Punkt gebracht - Kurzinterventionen mit FACT
DESCRIPTION:Die „Fokussierte Akzeptanz- und Commitment- Therapie (FACT)“ wurde maßgeblich von Kirk Strosahl und Patricia Robinson für die Anwendung in medizinischen- und Beratungs-Settings entwickelt\, wo z.T. Einmalkontakte von unter 30 Minuten Dauer stattfinden. Die Methode zielt darauf ab\, pragmatisch und in kürzester Zeit auf der Grundlage einer kontextuellen Verhaltensanalyse mit den Klient*innen entscheidende Perspektivwechsel und Verhaltensänderungen zu erarbeiten. Dabei werden die Grundprozesse des ACT-Hexaflex-Modells in vereinfachter Form angewendet und wertegeleitetes Handeln wird gezielt angeregt. \n\nZielgruppe\n\nPsychologische und ärztliche Psychotherapeut*innen\, Psychiater*innen\, sowie Therapeuten anderer Berufsgruppen in Settings mit wenigen und/oder kurzen Kontakten (z. B. Kliniken\, Psychiatrische Institutsambulanzen\, StäB-Teams\, etc.). Vorerfahrungen mit ACT ist empfohlen. \n\nZiele\n\nArbeitsmethoden\, Arbeitsinstrumente und Gesprächs-Interventionen von FACT kennen lernen und in der praktischen Anwendung üben. \n\nMethoden\n\nKurze Powerpoint-Präsentationen der wichtigsten theoretischen Grundlagen\, klinische Falldarstellungen\, Demonstration von Interventionstechniken durch die Referent*innen\, interaktive Verwendung von Fallbeispielen der Teilnehmer*innen\, Paar- und Kleingruppen- Übungen\, Diskussion im Plenum \n\nLiteratur\n\n\nStrosahl K\, Robinson P\, Gustavsson T. Brief Interventions for Radical Change. New Harbinger Publications\, Inc. Oakland\, CA; 2012.\nStrosahl\, K. D.\, Robinson\, P. J.\, & Gustavsson\, T. (2015). Inside this moment: A clinician’s guide to promoting radical change using Acceptance and Commitment Therapy. New Harbinger Publications.\nRobinson P\, Reiter J. Behavioral Consultation and Primary Care. Springer International Publishing Switzerland; 2016.\n\nHarris R. Schwierige Situationen in der Akzeptanz- und Commitment Therapie (ACT). Beltz Verlag\, Weinheim. Basel; 2014.
URL:https://dgkv.info/termin/act-auf-den-punkt-gebracht-kurzinterventionen-mit-fact-4/
LOCATION:AWP Berlin altes Hafengebäude\, Tempelhofer Damm 227\, Berlin\, Berlin\, 12099\, Deutschland
ATTACH;FMTTYPE=image/png:https://dgkv.info/wp-content/uploads/2024/09/Screenshot-from-2023-03-10-22-40-02-1.png
END:VEVENT
BEGIN:VEVENT
DTSTART;TZID=Europe/Berlin:20250509T090000
DTEND;TZID=Europe/Berlin:20250509T123000
DTSTAMP:20260422T020748
CREATED:20241214T171044Z
LAST-MODIFIED:20241214T171044Z
UID:6908-1746781200-1746793800@dgkv.info
SUMMARY:RFT in ACT (Verbale Interventionen und ACT)
DESCRIPTION:Verbale Interventionen mit\nder Akzeptanz- und Commitment-Therapie (ACT)\nKurzbeschreibung\nDer funktional-kontextualistische Ansatz von ACT wird wesent-\nlich durch das Sprachkonzept gesichert und vorangetrieben.\nACT orientiert sich an einem Umgang mit Sprache\, der sich –\nwie auch die moderne Sprachwissenschaft – an den Beziehun-\ngen zwischen den Inhalten (den relationalen Bezügen) orien-\ntiert. Bedeutung entsteht immer im Kontext und kann auch nur\nwirksam kontextuell verändert werden.\nZielgruppe Psychotherapeut*innen\, PIA\, Berater*innen\, Coaches.\nErste praktische Erfahrungen mit ACT sind wünschenswert.\nLernziele\n• Vermittlung des Sprachkonzeptes von ACT (Relationale Be-\nzugsrahmenkonzept)\n• Vermittlung und Sensibilisierung für Kontextsensibilität und\nfunktionale Wirksamkeit\n• Zugang zur praktischen Anwendung\nWesentliche\nInhalte/Themen\n• Bezugsrahmen/relationale Bezüge\n• Funktionale Kohärenz/kontextuelle Sensibilität\n• Interventionsstrategien: Unterschiedsbildung\, Perspektivver-\nänderung\, Ziel- und Wertorientierung\nMethoden Breakout-Room-Arbeitsgruppen\, Demos\, ev. kurze Filmse-\nquenzen\nReferent*in Frank Mutterlose\, Dipl.-Psych.\, Psychologischer Psychothera-\npeut; Supervisor; Coach; Dozent; Potsdam\nKursnummer 66134\nVeranstaltungsort Online über die Plattform „Zoom“\nTermin 6. – 9. Mai 2025\nVoraussetzungen Computer/Laptop mit stabilem Internetzugang\, Lautsprecher\,\nWebkamera und Mikrofon bzw. Headset\nUmfang Das Themenseminar umfasst 16 Unterrichtseinheiten (UE).\nZeiten\nDienstag:\nMittwoch:\nDonnerstag:\nFreitag:\n09:00 – 12:30 Uhr (techn. Check-in: 08:45 Uhr)\n09:00 – 12:30 Uhr\n09:00 – 12:30 Uhr\n09:00 – 12:30 Uh
URL:https://dgkv.info/termin/rft-in-act-verbale-interventionen-und-act/2025-05-09/
LOCATION:Zoom\, Online-Seminar
ATTACH;FMTTYPE=image/jpeg:https://dgkv.info/wp-content/uploads/2024/12/Wie-Sprache-mit-psychischen-Problemen-verbunden-sein-kann-compressed-scaled.jpg
ORGANIZER;CN="DGVT":MAILTO:fortbildung@dgvt.de
END:VEVENT
END:VCALENDAR