BEGIN:VCALENDAR
VERSION:2.0
PRODID:-//DGKV - ECPv6.15.20//NONSGML v1.0//EN
CALSCALE:GREGORIAN
METHOD:PUBLISH
X-WR-CALNAME:DGKV
X-ORIGINAL-URL:https://dgkv.info
X-WR-CALDESC:Veranstaltungen für DGKV
REFRESH-INTERVAL;VALUE=DURATION:PT1H
X-Robots-Tag:noindex
X-PUBLISHED-TTL:PT1H
BEGIN:VTIMEZONE
TZID:Europe/Berlin
BEGIN:DAYLIGHT
TZOFFSETFROM:+0100
TZOFFSETTO:+0200
TZNAME:CEST
DTSTART:20240331T010000
END:DAYLIGHT
BEGIN:STANDARD
TZOFFSETFROM:+0200
TZOFFSETTO:+0100
TZNAME:CET
DTSTART:20241027T010000
END:STANDARD
BEGIN:DAYLIGHT
TZOFFSETFROM:+0100
TZOFFSETTO:+0200
TZNAME:CEST
DTSTART:20250330T010000
END:DAYLIGHT
BEGIN:STANDARD
TZOFFSETFROM:+0200
TZOFFSETTO:+0100
TZNAME:CET
DTSTART:20251026T010000
END:STANDARD
BEGIN:DAYLIGHT
TZOFFSETFROM:+0100
TZOFFSETTO:+0200
TZNAME:CEST
DTSTART:20260329T010000
END:DAYLIGHT
BEGIN:STANDARD
TZOFFSETFROM:+0200
TZOFFSETTO:+0100
TZNAME:CET
DTSTART:20261025T010000
END:STANDARD
END:VTIMEZONE
BEGIN:VEVENT
DTSTART;TZID=Europe/Berlin:20250522T190000
DTEND;TZID=Europe/Berlin:20250522T203000
DTSTAMP:20260422T015858
CREATED:20241108T095017Z
LAST-MODIFIED:20250312T190934Z
UID:6839-1747940400-1747945800@dgkv.info
SUMMARY:DGKV-KLUBRAUM
DESCRIPTION:Der DGKV-KLUBRAUM ist eine offene online-Veranstaltung für DGKV-Mitglieder sowie Freunde und Interessierte für ACT&Co. \nAn ca. 6 Abenden im Jahr laden unterschiedliche Gastgeber*innen zu unterschiedlichen Themen ein – zum Teilen\, Üben\, Informieren und Austauschen. \n  \nInformationen und den Einwahl-Link findet Ihr auf: https://dgkv.info/weiterbildung-und-termine/klubraum/ \nEine Anmeldung ist nicht nötig.
URL:https://dgkv.info/termin/dgkv-klubraum-4/2025-05-22/
LOCATION:Zoom\, Online-Seminar
ATTACH;FMTTYPE=image/png:https://dgkv.info/wp-content/uploads/2024/10/kugel.png
END:VEVENT
END:VCALENDAR