BEGIN:VCALENDAR
VERSION:2.0
PRODID:-//DGKV - ECPv6.15.20//NONSGML v1.0//EN
CALSCALE:GREGORIAN
METHOD:PUBLISH
X-WR-CALNAME:DGKV
X-ORIGINAL-URL:https://dgkv.info
X-WR-CALDESC:Veranstaltungen für DGKV
REFRESH-INTERVAL;VALUE=DURATION:PT1H
X-Robots-Tag:noindex
X-PUBLISHED-TTL:PT1H
BEGIN:VTIMEZONE
TZID:Europe/Berlin
BEGIN:DAYLIGHT
TZOFFSETFROM:+0100
TZOFFSETTO:+0200
TZNAME:CEST
DTSTART:20240331T010000
END:DAYLIGHT
BEGIN:STANDARD
TZOFFSETFROM:+0200
TZOFFSETTO:+0100
TZNAME:CET
DTSTART:20241027T010000
END:STANDARD
BEGIN:DAYLIGHT
TZOFFSETFROM:+0100
TZOFFSETTO:+0200
TZNAME:CEST
DTSTART:20250330T010000
END:DAYLIGHT
BEGIN:STANDARD
TZOFFSETFROM:+0200
TZOFFSETTO:+0100
TZNAME:CET
DTSTART:20251026T010000
END:STANDARD
BEGIN:DAYLIGHT
TZOFFSETFROM:+0100
TZOFFSETTO:+0200
TZNAME:CEST
DTSTART:20260329T010000
END:DAYLIGHT
BEGIN:STANDARD
TZOFFSETFROM:+0200
TZOFFSETTO:+0100
TZNAME:CET
DTSTART:20261025T010000
END:STANDARD
END:VTIMEZONE
BEGIN:VEVENT
DTSTART;TZID=Europe/Berlin:20250828T180000
DTEND;TZID=Europe/Berlin:20250828T193000
DTSTAMP:20260421T212708
CREATED:20250822T150443Z
LAST-MODIFIED:20250822T150443Z
UID:7196-1756404000-1756409400@dgkv.info
SUMMARY:ACT in Führung und Personalentwicklung
DESCRIPTION:Die Arbeitsgruppe „ACT in Führung und Personalentwicklung“ trifft sich zum 2. Mal zu einem vertiefenden Austausch. Hier wird ACT praktiziert und der Raum ermöglicht\, sich aktiv einzubringen sowie auszuprobieren. \nEin herzliche Einladung zur Teilnahme! \nDie Moderation wird diesmal von Martin Bonensteffen übernommen. Wer teilnehmen mag\, kann gerne direkt bei ihm den Zoom-Link anfragen: martin.bonensteffen@actpraxis.de \nWir freuen uns auf den Austausch und die gemeinsame Zeit! \n 
URL:https://dgkv.info/termin/act-in-fuehrung-und-personalentwicklung/
LOCATION:Online Veranstaltung
ATTACH;FMTTYPE=image/jpeg:https://dgkv.info/wp-content/uploads/2025/08/magnifying-glass-2884240_1280.jpg
END:VEVENT
END:VCALENDAR