BEGIN:VCALENDAR
VERSION:2.0
PRODID:-//DGKV - ECPv6.15.20//NONSGML v1.0//EN
CALSCALE:GREGORIAN
METHOD:PUBLISH
X-ORIGINAL-URL:https://dgkv.info
X-WR-CALDESC:Veranstaltungen für DGKV
REFRESH-INTERVAL;VALUE=DURATION:PT1H
X-Robots-Tag:noindex
X-PUBLISHED-TTL:PT1H
BEGIN:VTIMEZONE
TZID:Europe/Berlin
BEGIN:DAYLIGHT
TZOFFSETFROM:+0100
TZOFFSETTO:+0200
TZNAME:CEST
DTSTART:20240331T010000
END:DAYLIGHT
BEGIN:STANDARD
TZOFFSETFROM:+0200
TZOFFSETTO:+0100
TZNAME:CET
DTSTART:20241027T010000
END:STANDARD
BEGIN:DAYLIGHT
TZOFFSETFROM:+0100
TZOFFSETTO:+0200
TZNAME:CEST
DTSTART:20250330T010000
END:DAYLIGHT
BEGIN:STANDARD
TZOFFSETFROM:+0200
TZOFFSETTO:+0100
TZNAME:CET
DTSTART:20251026T010000
END:STANDARD
BEGIN:DAYLIGHT
TZOFFSETFROM:+0100
TZOFFSETTO:+0200
TZNAME:CEST
DTSTART:20260329T010000
END:DAYLIGHT
BEGIN:STANDARD
TZOFFSETFROM:+0200
TZOFFSETTO:+0100
TZNAME:CET
DTSTART:20261025T010000
END:STANDARD
END:VTIMEZONE
BEGIN:VEVENT
DTSTART;VALUE=DATE:20250912
DTEND;VALUE=DATE:20250915
DTSTAMP:20260421T201154
CREATED:20250401T183319Z
LAST-MODIFIED:20250409T165446Z
UID:7023-1757635200-1757894399@dgkv.info
SUMMARY:DGKV Mitgliedertreffen 2025
DESCRIPTION:Die Konferenz in Zürich hat es wieder gezeigt: wenn sich die DGKV Community real begegnet wird es lebendig\, lustig und produktiv! Deshalb treffen wir uns auch 2025 wieder face-to-face. \n \n  \nWo: Tagungshotel Kloster St. Josef Neumarkt in der Oberpfalz \nWildbad 1\, 92367 Pilsach\, Germany \nhttps://www.stjosef-nm.de/ \n  \nWann: 12.09. – 14.09.2025 \nWeitere Infos und Anmeldung inklusive Zimmerreservierungen \ndirekt hier bis spätestens 07.07.25! \n  \n  \n 
URL:https://dgkv.info/termin/dgkv-mitgliedertreffen-2025/
ATTACH;FMTTYPE=image/png:https://dgkv.info/wp-content/uploads/2025/04/DGKV_Logo-2.png
END:VEVENT
END:VCALENDAR