BEGIN:VCALENDAR
VERSION:2.0
PRODID:-//DGKV - ECPv6.15.20//NONSGML v1.0//EN
CALSCALE:GREGORIAN
METHOD:PUBLISH
X-WR-CALNAME:DGKV
X-ORIGINAL-URL:https://dgkv.info
X-WR-CALDESC:Veranstaltungen für DGKV
REFRESH-INTERVAL;VALUE=DURATION:PT1H
X-Robots-Tag:noindex
X-PUBLISHED-TTL:PT1H
BEGIN:VTIMEZONE
TZID:Europe/Berlin
BEGIN:DAYLIGHT
TZOFFSETFROM:+0100
TZOFFSETTO:+0200
TZNAME:CEST
DTSTART:20190331T010000
END:DAYLIGHT
BEGIN:STANDARD
TZOFFSETFROM:+0200
TZOFFSETTO:+0100
TZNAME:CET
DTSTART:20191027T010000
END:STANDARD
BEGIN:DAYLIGHT
TZOFFSETFROM:+0100
TZOFFSETTO:+0200
TZNAME:CEST
DTSTART:20200329T010000
END:DAYLIGHT
BEGIN:STANDARD
TZOFFSETFROM:+0200
TZOFFSETTO:+0100
TZNAME:CET
DTSTART:20201025T010000
END:STANDARD
BEGIN:DAYLIGHT
TZOFFSETFROM:+0100
TZOFFSETTO:+0200
TZNAME:CEST
DTSTART:20210328T010000
END:DAYLIGHT
BEGIN:STANDARD
TZOFFSETFROM:+0200
TZOFFSETTO:+0100
TZNAME:CET
DTSTART:20211031T010000
END:STANDARD
BEGIN:DAYLIGHT
TZOFFSETFROM:+0100
TZOFFSETTO:+0200
TZNAME:CEST
DTSTART:20220327T010000
END:DAYLIGHT
BEGIN:STANDARD
TZOFFSETFROM:+0200
TZOFFSETTO:+0100
TZNAME:CET
DTSTART:20221030T010000
END:STANDARD
END:VTIMEZONE
BEGIN:VEVENT
DTSTART;TZID=Europe/Berlin:20200624T190000
DTEND;TZID=Europe/Berlin:20210224T220000
DTSTAMP:20260424T182516
CREATED:20200527T142546Z
LAST-MODIFIED:20201227T230811Z
UID:4207-1593025200-1614204000@dgkv.info
SUMMARY:ACT vertiefen – Online Kurs über 8 Monate
DESCRIPTION:Die Abende in diesem Online-Kurs über Zoom beleuchten einzelne Aspekte der Akzeptanz- und Commitment-Therapie (ACT) und können einzeln oder als ganzer Kurs gebucht werden. Wir wollen Übungen vorstellen und ausprobieren\, Themen diskutieren und miteinander ACT und Achtsamkeitspraxis erleben. Immer drei Stunden. Zusammen. Sein. \nWir setzen dabei voraus\, dass ihr euch schon etwas mit ACT beschäftigt habt\, in welchem Rahmen auch immer. Ihr könnt euch mit dem Formular direkt anmelden und wir senden euch jeweils am Abend vor dem Treffen den Zoom-Link für die Einwahl zu. Begleitend wird es einen Bereich auf unserer Webseite geben\, über den wir miteinander Übungen zugänglich machen und uns gegenseitig auf Filme oder Texte hinweisen können. \nDie Abende finden jeweils von 19-22 Uhr statt. Die Kosten belaufen sich pro Abend auf 50\,00 Euro\, wovon wir in gewohnter Weise 10 Euro an ein Projekt spenden. Wenn du den ganzen Kurs buchst kostet dich das für 8 Abende 350\,00 Euro und wir spenden davon 70 Euro an ein Projekt. Die Anmeldung ist immer bis zum Vorabend um 18 Uhr möglich. \nVoraussetzungen: eine einigermaßen stabile Internetverbindung und die Installation der Zoom-App auf deinem Rechner\, Tablet oder Handy. \n\n\n\n\nHier die Themen: \n24.06.2020 Verweilen\, wo es weh tut. Achtsamkeit und kreative Hoffnungslosigkeit\n22.07.2020 Was ist Dir denn wirklich wichtig? Vertiefung zur Wertearbeit\n26.08.2020 It’s true\, if you believe it. Defusion – oder was war das eben?\n30.09.2020 Wer bin ich? Und wieviele bin ich noch? Selbst als Kontext im Prozess\n04.11.2020 Es gibt nichts gutes\, außer man tut es! Commitment in Action\n16.12.2020 Annehmen was ist\, sagt sich so leicht ….  ein Abend zu Akzeptanz\n27.01.2021 Was ist denn JETZT los mit uns? Hier und Jetzt und die beraterische Beziehung\n24.02.2021 Und immer schön flexi bleiben. Psychische und soziale Flexibilität üben \n\nAnmeldung unter:\nhttps://www.act-mindful.space/online-seminare/2020/6/24/act-abende-online
URL:https://dgkv.info/termin/act-vertiefen-online-kurs-ueber-8-monate/
ATTACH;FMTTYPE=image/jpeg:https://dgkv.info/wp-content/uploads/2020/12/Kelim-2020.jpg
ORGANIZER;CN="ACT mindful - Hagen B%C3%B6ser und Tom Pinkall":MAILTO:mail@hagen-boeser.de
END:VEVENT
BEGIN:VEVENT
DTSTART;TZID=Europe/Berlin:20210212T140000
DTEND;TZID=Europe/Berlin:20210213T180000
DTSTAMP:20260424T182516
CREATED:20200913T105709Z
LAST-MODIFIED:20201212T000615Z
UID:4286-1613138400-1613239200@dgkv.info
SUMMARY:ACT-KJP Curriculum – 3-teilig\, Teil I:  Einführung in die Anwendung von ACT in der Arbeit mit Kindern\, Jugendlichen und ihren Bezugspersonen
DESCRIPTION:Einführungsworkshop in die ACT-KJP mit 16 UE\nDer zweitägige Workshop führt erfahrungsbezogen in die ACT-Kernprozesse unter Berücksichtigung der jeweiligen Altersgruppen ein und bietet eine erste Übersicht über die theoretischen Grundlagen der ACT. Außerdem werden erste Fallkonzepte mit Hilfe der Matrix erstellt.
URL:https://dgkv.info/termin/act-curriculum-3-teilig-teil-i-einfuehrung-in-die-anwendung-von-act-in-der-arbeit-%e2%80%a8mit-kindern-jugendlichen-und-ihren-bezugspersonen/
CATEGORIES:Workshop
ORGANIZER;CN="ACT Lab Hamburg":MAILTO:info@praxis-fischer-cordshagen.de
END:VEVENT
END:VCALENDAR