BEGIN:VCALENDAR
VERSION:2.0
PRODID:-//DGKV - ECPv6.15.20//NONSGML v1.0//EN
CALSCALE:GREGORIAN
METHOD:PUBLISH
X-ORIGINAL-URL:https://dgkv.info
X-WR-CALDESC:Veranstaltungen für DGKV
REFRESH-INTERVAL;VALUE=DURATION:PT1H
X-Robots-Tag:noindex
X-PUBLISHED-TTL:PT1H
BEGIN:VTIMEZONE
TZID:Europe/Berlin
BEGIN:DAYLIGHT
TZOFFSETFROM:+0100
TZOFFSETTO:+0200
TZNAME:CEST
DTSTART:20220327T010000
END:DAYLIGHT
BEGIN:STANDARD
TZOFFSETFROM:+0200
TZOFFSETTO:+0100
TZNAME:CET
DTSTART:20221030T010000
END:STANDARD
BEGIN:DAYLIGHT
TZOFFSETFROM:+0100
TZOFFSETTO:+0200
TZNAME:CEST
DTSTART:20230326T010000
END:DAYLIGHT
BEGIN:STANDARD
TZOFFSETFROM:+0200
TZOFFSETTO:+0100
TZNAME:CET
DTSTART:20231029T010000
END:STANDARD
BEGIN:DAYLIGHT
TZOFFSETFROM:+0100
TZOFFSETTO:+0200
TZNAME:CEST
DTSTART:20240331T010000
END:DAYLIGHT
BEGIN:STANDARD
TZOFFSETFROM:+0200
TZOFFSETTO:+0100
TZNAME:CET
DTSTART:20241027T010000
END:STANDARD
END:VTIMEZONE
BEGIN:VEVENT
DTSTART;TZID=Europe/Berlin:20230315T140000
DTEND;TZID=Europe/Berlin:20230315T173000
DTSTAMP:20260421T172017
CREATED:20230310T213245Z
LAST-MODIFIED:20230310T213245Z
UID:6187-1678888800-1678901400@dgkv.info
SUMMARY:Praktische Einführung in ACT als prozessbasierte Therapie
DESCRIPTION:Akzeptanz- und Commitment-Therapie (ACT\, gesprochen: ækt) ist Teil der „dritten Welle“ der Verhaltenstherapie. Wie die Metapher der Welle nahelegt\, ist ACT weder ein Neuanfang noch ein Endpunkt in der Entwicklung von Psychotherapie im Dienste von wertvoll gelebtem Leben\, sondern ein gegenwärtiger Ausdruck\, wie Menschen evidenzbasiert mit den Herausforderungen des Menschseins leben und darin unterstützt werden können. Diese Einführung gibt eine Orientierung zur Grundidee und Haltung von ACT. Anhand der ACT-Matrix wird praktisch geübt\, wie ein gemeinsames Fallkonzept mit der Klient*in erstellt werden kann\, in dem persönlich bedeutsames und sinnhaftes Leben in das Zentrum des therapeutischen Prozesses rückt.
URL:https://dgkv.info/termin/praktische-einfuehrung-in-act-als-prozessbasierte-therapie/
LOCATION:FU Berlin\, Habelschwerdter Allee 45\, Berlin\, Deutschland
CATEGORIES:Kongress,Workshop
ATTACH;FMTTYPE=image/jpeg:https://dgkv.info/wp-content/uploads/2023/03/Header_Kongress_RZ.jpg
ORGANIZER;CN="DGVT":MAILTO:fortbildung@dgvt.de
END:VEVENT
BEGIN:VEVENT
DTSTART;TZID=Europe/Berlin:20230316T140000
DTEND;TZID=Europe/Berlin:20230316T160000
DTSTAMP:20260421T172017
CREATED:20230310T213454Z
LAST-MODIFIED:20230310T213454Z
UID:6191-1678975200-1678982400@dgkv.info
SUMMARY:Achtsamkeit - Zwischen Heilsversprechen und Heilbehandlung
DESCRIPTION:Die einst kulturelle Praxis Achtsamkeit hat sich im letzten Jahrzehnt zur neuen kapitalistischen Spiritualität entwickelt. Die entstandenen Mythen und Heilsversprechen finden dadurch Einzug in die Therapiezimmer\, sodass sich eine kritische Auseinandersetzung mit Achtsamkeit im Rahmen der Heilbehandlung lohnt. Im Workshop schauen wir auf nützliche Operationalisierungen von Achtsamkeitsprozessen und deren Rolle in psychischen Störungen. Ein Exkurs in die Neuropsychologie der Aufmerksamkeitssteuerung hilft\, um praktische Ableitungen für die Arbeit im therapeutischen Gespräch zu bilden.
URL:https://dgkv.info/termin/achtsamkeit-zwischen-heilsversprechen-und-heilbehandlung/
LOCATION:FU Berlin\, Habelschwerdter Allee 45\, Berlin\, Deutschland
CATEGORIES:Kongress,Workshop
ATTACH;FMTTYPE=image/jpeg:https://dgkv.info/wp-content/uploads/2023/03/Header_Kongress_RZ-1.jpg
ORGANIZER;CN="DGVT":MAILTO:fortbildung@dgvt.de
END:VEVENT
BEGIN:VEVENT
DTSTART;VALUE=DATE:20230317
DTEND;VALUE=DATE:20230319
DTSTAMP:20260421T172017
CREATED:20220928T103227Z
LAST-MODIFIED:20220928T104302Z
UID:5989-1679011200-1679183999@dgkv.info
SUMMARY:JumpIn ACT Berlin
DESCRIPTION:3 Wochenenden + 1 Tag\, um ACT zu lernen\, zu erfahren\, auszuprobieren \nJumpIn ACT 1: Was ist ACT? Theorie\, Haltung\, Hintergründe\, Einführung in die sechs Kernprozesse\nJumpIn ACT 2: vertiefende Übungen zu den sechs Kernprozessen\, kreativer Hoffnungslosigkeit\, Funktionsanalyse\, ….\nJumpIn ACT 3: Modelle\, spezifische Fragestellungen\, Fallkonzeption\nSupervisionstag: Fall-Intervision und Supervision\, auspobieren\, üben
URL:https://dgkv.info/termin/jumpin-act-berlin/2023-03-17/
LOCATION:ACT-Netzwerk Berlin-Brandenburg\, Friedelstr. 40 HH (im SIA)\, Berlin\, 12047\, Deutschland
CATEGORIES:Workshop
ATTACH;FMTTYPE=image/jpeg:https://dgkv.info/wp-content/uploads/2022/09/DSC01972-scaled-e1664361543486.jpg
ORGANIZER;CN="ACT-Netzwerk Berlin-Brandenburg":MAILTO:info@act-netzwerk-bb.de
GEO:52.4918111;13.4275503
X-APPLE-STRUCTURED-LOCATION;VALUE=URI;X-ADDRESS=ACT-Netzwerk Berlin-Brandenburg Friedelstr. 40 HH (im SIA) Berlin 12047 Deutschland;X-APPLE-RADIUS=500;X-TITLE=Friedelstr. 40 HH (im SIA):geo:13.4275503,52.4918111
END:VEVENT
BEGIN:VEVENT
DTSTART;TZID=Europe/Berlin:20230317T160000
DTEND;TZID=Europe/Berlin:20230317T193000
DTSTAMP:20260421T172017
CREATED:20220928T110414Z
LAST-MODIFIED:20220928T110414Z
UID:6014-1679068800-1679081400@dgkv.info
SUMMARY:ACT Einführung - online
DESCRIPTION:Online-Workshop bei der DGVT \nDipl.-Psych. Mareile Rahming \nLernziele: ACT in Grundzügen kennen und einzelne Prozesse im eigenen Setting anwenden können \nWesentliche Inhalte: \n\nWorum geht es in der ACT?\nWissenschaftliche und therapietheoretische Grundlagen der ACT (Das ACT Modell der Psychopathologie)\nDas ACT Modell der Therapie (Hexaflex\, Matrix)\nACT in der Praxis (Fallkonzeption\, Basisfertigkeiten des/der Therapeut*in)
URL:https://dgkv.info/termin/act-einfuehrung-online-2/2023-03-17/
LOCATION:Online\, www.zoom.us\, Schweiz
ORGANIZER;CN="DGVT":MAILTO:fortbildung@dgvt.de
END:VEVENT
BEGIN:VEVENT
DTSTART;TZID=Europe/Berlin:20230318T090000
DTEND;TZID=Europe/Berlin:20230318T130000
DTSTAMP:20260421T172017
CREATED:20230122T065731Z
LAST-MODIFIED:20230122T070219Z
UID:6127-1679130000-1679144400@dgkv.info
SUMMARY:ACT Intervision Dresden/Leipzig
DESCRIPTION:Wir sind eine „bunte“ Gruppe nach Alter und Profession und üben mit dem Portlandmodell. \nDie Veranstaltung findet online statt. Bei Interesse bitte Kontakt aufnehmen: kristin.heiber@yahoo.com
URL:https://dgkv.info/termin/act-intervision-dresden-leipzig/
LOCATION:Online Veranstaltung
CATEGORIES:Intervisionsgruppe
END:VEVENT
BEGIN:VEVENT
DTSTART;TZID=Europe/Berlin:20230322T180000
DTEND;TZID=Europe/Berlin:20230322T191500
DTSTAMP:20260421T172017
CREATED:20220929T064116Z
LAST-MODIFIED:20220929T064116Z
UID:6031-1679508000-1679512500@dgkv.info
SUMMARY:Üben und Ausprobieren im ACT-RAUM
DESCRIPTION:ONLINE-WORKSHOPS AM ABEND \nexperimentelles Ausprobieren der 6 Hexaflexprozesse \nWir laden Euch herzlich ein\, zu einer Abend-Workshop-Reihe. \nAn diesen Online-Abenden wird sich alles um das Thema experimentelles Ausprobieren der 6 Hexaflexprozesse drehen. Es ist kein Vorwissen erfordelich. \nWas ist uns wichtig?\nGegenseitiges Vertrauen und mutig sein. \nhttps://us06web.zoom.us/j/85764431138?pwd=UVhMSzdWMXJFZHRjRXpUVDJlREQxQT09\nMeeting-ID: 857 6443 1138\nKenncode: 329882
URL:https://dgkv.info/termin/ueben-und-ausprobieren-im-act-raum-6/
LOCATION:Zoom\, Online-Seminar
CATEGORIES:Workshop
END:VEVENT
BEGIN:VEVENT
DTSTART;TZID=Europe/Berlin:20230324T140000
DTEND;TZID=Europe/Berlin:20230325T180000
DTSTAMP:20260421T172017
CREATED:20220816T064813Z
LAST-MODIFIED:20220816T064813Z
UID:5943-1679666400-1679767200@dgkv.info
SUMMARY:Einführungsworkshop in die ACT-KJP
DESCRIPTION:Der zweitägige Workshop führt erfahrungsbezogen in die ACT-Kernprozesse unter Berücksichtigung der jeweiligen Altersgruppen ein und bietet eine erste Übersicht über die theoretischen Grundlagen der ACT. Außerdem werden erste Fallkonzepte mit Hilfe der Matrix erstellt.
URL:https://dgkv.info/termin/einfuehrungsworkshop-in-die-act-kjp-2/
LOCATION:ACT-Lab-Hamburg\, Bahnhofstraße 15\, 22880 Wedel\, 22880\, Deutschland
CATEGORIES:Workshop
ATTACH;FMTTYPE=image/png:https://dgkv.info/wp-content/uploads/2022/08/ACT-LAB-Logo.png
ORGANIZER;CN="Tanja Cordshagen-Fischer":MAILTO:info@praxis-fischer-cordshagen.de
END:VEVENT
END:VCALENDAR