BEGIN:VCALENDAR
VERSION:2.0
PRODID:-//DGKV - ECPv6.15.20//NONSGML v1.0//EN
CALSCALE:GREGORIAN
METHOD:PUBLISH
X-ORIGINAL-URL:https://dgkv.info
X-WR-CALDESC:Veranstaltungen für DGKV
REFRESH-INTERVAL;VALUE=DURATION:PT1H
X-Robots-Tag:noindex
X-PUBLISHED-TTL:PT1H
BEGIN:VTIMEZONE
TZID:Europe/Berlin
BEGIN:DAYLIGHT
TZOFFSETFROM:+0100
TZOFFSETTO:+0200
TZNAME:CEST
DTSTART:20240331T010000
END:DAYLIGHT
BEGIN:STANDARD
TZOFFSETFROM:+0200
TZOFFSETTO:+0100
TZNAME:CET
DTSTART:20241027T010000
END:STANDARD
BEGIN:DAYLIGHT
TZOFFSETFROM:+0100
TZOFFSETTO:+0200
TZNAME:CEST
DTSTART:20250330T010000
END:DAYLIGHT
BEGIN:STANDARD
TZOFFSETFROM:+0200
TZOFFSETTO:+0100
TZNAME:CET
DTSTART:20251026T010000
END:STANDARD
BEGIN:DAYLIGHT
TZOFFSETFROM:+0100
TZOFFSETTO:+0200
TZNAME:CEST
DTSTART:20260329T010000
END:DAYLIGHT
BEGIN:STANDARD
TZOFFSETFROM:+0200
TZOFFSETTO:+0100
TZNAME:CET
DTSTART:20261025T010000
END:STANDARD
END:VTIMEZONE
BEGIN:VEVENT
DTSTART;TZID=Europe/Berlin:20250108T200000
DTEND;TZID=Europe/Berlin:20250108T213000
DTSTAMP:20260422T080519
CREATED:20250106T175144Z
LAST-MODIFIED:20250106T175738Z
UID:6938-1736366400-1736371800@dgkv.info
SUMMARY:Treffen der SIG – ACT in der Klinik und Tagesklinik
DESCRIPTION:Die Special Interest Group (SIG) „ACT in der Klinik und Tagesklinik“ trifft sich  am 1. Mittwoch jedes Quartals\, immer um 20:00 online! \nMehr Infos hier: \nhttps://dgkv.info/dgkv/gruppen/sig-act-in-klinik-und-tagesklinik/
URL:https://dgkv.info/termin/treffen-der-sig-act-in-der-klinik-und-tagesklinik/2025-01-08/
ATTACH;FMTTYPE=image/png:https://dgkv.info/wp-content/uploads/2025/01/Screenshot-2025-01-06-185009.png
END:VEVENT
BEGIN:VEVENT
DTSTART;TZID=Europe/Berlin:20250115T190000
DTEND;TZID=Europe/Berlin:20250115T203000
DTSTAMP:20260422T080519
CREATED:20241108T095017Z
LAST-MODIFIED:20250312T190931Z
UID:6837-1736967600-1736973000@dgkv.info
SUMMARY:DGKV-KLUBRAUM
DESCRIPTION:Der DGKV-KLUBRAUM ist eine offene online-Veranstaltung für DGKV-Mitglieder sowie Freunde und Interessierte für ACT&Co. \nAn ca. 6 Abenden im Jahr laden unterschiedliche Gastgeber*innen zu unterschiedlichen Themen ein – zum Teilen\, Üben\, Informieren und Austauschen. \n  \nInformationen und den Einwahl-Link findet Ihr auf: https://dgkv.info/weiterbildung-und-termine/klubraum/ \nEine Anmeldung ist nicht nötig.
URL:https://dgkv.info/termin/dgkv-klubraum-4/2025-01-15/
LOCATION:Zoom\, Online-Seminar
ATTACH;FMTTYPE=image/png:https://dgkv.info/wp-content/uploads/2024/10/kugel.png
END:VEVENT
BEGIN:VEVENT
DTSTART;TZID=Europe/Berlin:20250121T090000
DTEND;TZID=Europe/Berlin:20250124T123000
DTSTAMP:20260422T080519
CREATED:20241214T172353Z
LAST-MODIFIED:20250106T182039Z
UID:6912-1737450000-1737721800@dgkv.info
SUMMARY:ACT und Werte
DESCRIPTION:Akzeptanz- und Commitment-Therapie (ACT) und Werte \nKurzbeschreibung\nWerte sind für ACT Handlungen. Sie bilden das Fundament und die Perspektive der Hexaflexarbeit. Der flexible Umgang mit den anderen Kernprozessen zielt auf die Wertearbeit. Werte orientieren Verhalten auf neue Erfahrungen und Möglichkeiten. Es geht darum\, den Zugang zur Wertorientierung zu eröffnen\, die Beziehung von Werten und einengendem Verhalten erlebbar werden zu lassen\, Wege\, Werte zu entwickeln\, kennenzulernen\, und die Nachhaltigkeit der Wertarbeit zu verdeutlichen. \nZielgruppe\nPsychotherapeut*innen\, PiAs\, ACT-Interessierte aus anderen psychosozialen Berufszweigen. Grundkenntnisse in ACT sind Voraussetzung. \nLernziele\n• Was sind Werte? Was ist ihre Funktion?\n• Welche Arten von Wertarbeit gibt es?\n• Wie kann ich Werteübungen anwenden? \nWesentliche Inhalte/Themen\n• Kriterien\, Indikationen\n• Funktion von Werten für ACT und für die anderen Kernprozesse\n• Zugang zu Werten\n• Wert / Schmerz Dublette\n• Wert als Perspektivwechsel\n• Wert als fortlaufender Prozess \nMethoden \nModell\, Rollenspiel in AGs und Großgruppe\, Übungen \n  \nInformation und Anmeldung\nDeutsche Gesellschaft für Verhaltenstherapie (DGVT) e. V. Fort- und Weiterbildung\nPostfach 13 43\, 72003 Tübingen;  07071 94 34-34  07071 94 34-35\nE-Mail: fortbildung@dgvt.de; Internet: www.dgvt-fortbildung.de\nSprechzeiten: Di und Do: 09:00 – 12:00 Uhr; Di und Mi: 14:00 – 15:30 Uhr \nReferent\nFrank Mutterlose\, Dipl.-Psych.\, M.A. Philosophie\, Soziologie und Religionswissenschaften\, Psychologischer Psychotherapeut; Potsdam \nKursnummer 66131\nVeranstaltungsort Online über die Plattform „Zoom“ \nTermin 21. – 24. Januar 2025\, jeweils 9:00 bis 12:30 \nVoraussetzungen  \nTechnik: \nComputer/Laptop mit stabilem Internetzugang\, Lautsprecher\, Webkamera und Mikrofon bzw. Headset \nInhaltlich: \nVorkenntnisse des Hexaflex \nUmfang \nDas Web-Seminar umfasst 16 Unterrichtseinheiten (UE).
URL:https://dgkv.info/termin/act-und-werte/
LOCATION:Zoom\, Online-Seminar
ATTACH;FMTTYPE=image/jpeg:https://dgkv.info/wp-content/uploads/2024/12/20241214_190357113-scaled.jpg
ORGANIZER;CN="DGVT":MAILTO:fortbildung@dgvt.de
END:VEVENT
BEGIN:VEVENT
DTSTART;VALUE=DATE:20250130
DTEND;VALUE=DATE:20250201
DTSTAMP:20260422T080519
CREATED:20240907T140908Z
LAST-MODIFIED:20240907T140908Z
UID:6679-1738195200-1738367999@dgkv.info
SUMMARY:Werteorientiert arbeiten in der Psychotherapie
DESCRIPTION:In diesem Seminar widmen wir uns persönlichen Werten und Sinnhaftigkeit als Wegweiser im psychotherapeutischen Prozess. Mit erlebnisorientierten Ansätzen wird ausprobiert\, wie die Orientierung an Werten mehr Lebendigkeit in die Therapie bringen kann – sowohl für die Klient*innen als auch für die Therapeut*in! \n\nZielgruppe\n\nPsychologische und ärztliche Psychotherapeut*innen sowie therapeutisch Arbeitende weiterer Berufsgruppen. Vorkenntnisse in ACT sind nicht erfordlich\, aber hilfreich. \n\nZiele\n\n\nSeminarteilnehmer*innen…\n\n… können die Rolle von Werten im psychotherapeutischen Prozess einordnen\n… können Werte in ihrer Lebendigkeit fördern\, anstatt sie ausschließlich zu benennen\n… haben ein Repertoire an Übungen und Methoden für die werteorientierte Arbeit mit Klient*innen\n… wissen um typische Hindernisse und Fallstricke in der Werteorientierten Psychotherapie und haben Umgänge damit geübt\n… haben die eigenen Werte in der Arbeit als Therapeut*in reflektiert und wissen diese im beruflichen Alltag zu nutzen\n\n\n\n\nInhalte\n\nIn der Akzeptanz- und Commitment-Therapie (ACT) werden Werte als selbstgewählte Qualitäten des eigenen Handelns (Wie) beschrieben und unterscheiden sich von konkreten Zielen (Was). Während das Substantiv Werte etwas Statisches suggeriert\, geht es vielmehr um wertvoll gelebtes Leben\, welches im Rahmen einer werteorientierten Psychotherapie im Zentrum steht. \nSo wird im Seminar geübt\, wie diese Orientierung von der ersten Sitzung in den therapeutischen Prozess einfließen kann und mit Hindernissen in der Arbeit mit persönlichen Werten umgegangen werden kann. \nIn Form von Erfahrungsübungen wird werteorienties Arbeiten von innen heraus kennengelernt und zur Selbsterfahrung die eigenen Werte als Therapeut*in exploriert. \nDas Seminar nutzt den Werkzeugkasten der ACT als Zugang zu werteorientiertem Arbeiten und bleibt aufgrund der pragmatischen Haltung offen\, in verschiedene psychotherapeutische Ansätze integriert zu werden. \n\nMethoden\n\nDie ACT ist ein erlebnisorientierter Ansatz\, deshalb wird neben der theoretischen Vermittlung großes Gewicht auf Selbsterfahrungselemente und praktische Übungen gelegt\, die es den Teilnehmer*innen ermöglichen\, die Wirkung der Prozesse selbst zu erleben und in Übungen\, Experimenten und Rollenspielen auszuprobieren. \n\nErlebnisorientierte Übungen\nInformationsvermittlung / Theorie\nGruppenarbeit und Rollenspiele\n\n\nLiteratur\n\nLeJeune\, J.\, & Luoma\, J. B. (2019). Values in therapy: A clinician’s guide to helping clients explore values\, increase psychological flexibility\, and live a more meaningful life. New Harbinger Publications. \nDahl\, J.\, Lundgren\, T.\, Plumb\, J.\, & Stewart\, I. (2009). The Art and Science of Valuing in Psychotherapy: Helping Clients Discover\, Explore\, and Commit to Valued Action Using Acceptance and Commitment Thera. New Harbinger Publications.
URL:https://dgkv.info/termin/werteorientiert-arbeiten-in-der-psychotherapie-2/
LOCATION:AWP Berlin altes Hafengebäude\, Tempelhofer Damm 227\, Berlin\, Berlin\, 12099\, Deutschland
ATTACH;FMTTYPE=image/png:https://dgkv.info/wp-content/uploads/2024/09/Screenshot-from-2023-03-10-22-40-02.png
END:VEVENT
END:VCALENDAR