BEGIN:VCALENDAR
VERSION:2.0
PRODID:-//DGKV - ECPv6.15.20//NONSGML v1.0//EN
CALSCALE:GREGORIAN
METHOD:PUBLISH
X-ORIGINAL-URL:https://dgkv.info
X-WR-CALDESC:Veranstaltungen für DGKV
REFRESH-INTERVAL;VALUE=DURATION:PT1H
X-Robots-Tag:noindex
X-PUBLISHED-TTL:PT1H
BEGIN:VTIMEZONE
TZID:Europe/Berlin
BEGIN:DAYLIGHT
TZOFFSETFROM:+0100
TZOFFSETTO:+0200
TZNAME:CEST
DTSTART:20240331T010000
END:DAYLIGHT
BEGIN:STANDARD
TZOFFSETFROM:+0200
TZOFFSETTO:+0100
TZNAME:CET
DTSTART:20241027T010000
END:STANDARD
BEGIN:DAYLIGHT
TZOFFSETFROM:+0100
TZOFFSETTO:+0200
TZNAME:CEST
DTSTART:20250330T010000
END:DAYLIGHT
BEGIN:STANDARD
TZOFFSETFROM:+0200
TZOFFSETTO:+0100
TZNAME:CET
DTSTART:20251026T010000
END:STANDARD
BEGIN:DAYLIGHT
TZOFFSETFROM:+0100
TZOFFSETTO:+0200
TZNAME:CEST
DTSTART:20260329T010000
END:DAYLIGHT
BEGIN:STANDARD
TZOFFSETFROM:+0200
TZOFFSETTO:+0100
TZNAME:CET
DTSTART:20261025T010000
END:STANDARD
END:VTIMEZONE
BEGIN:VEVENT
DTSTART;VALUE=DATE:20250228
DTEND;VALUE=DATE:20250303
DTSTAMP:20260422T033757
CREATED:20220623T205840Z
LAST-MODIFIED:20240926T111715Z
UID:5905-1740700800-1740959999@dgkv.info
SUMMARY:Das Geschenk des Ostens an den Westen – Retreat mit Choden
DESCRIPTION:DIE WEISHEIT DER LEERE UND DES GEWAHRSEINS\nWir freuen uns\, dass 2025 wieder eine Möglichkeit besteht\, Choden wiederzusehen oder kennenzulernen und mit ihm Verbindungmöglichkeiten aus östlichen Traditionen und westlicher Psychologie zu erleben. Aus unserer Sicht hat er eine besondere Begabung\, sehr klare Beschreibungen für Prozesse des menschlichen Geistes zu finden und sehr fundiert und warmherzig in die damit einhergehende Praxis einzuführen. Dabei richtet sich der Blick diesmal auf Weisheit der Leere der Dinge (emptiness) und des Gewahrseins (awareness). Choden wird Erklärungen und Übungen anbieten\, um uns mit dem Teil von uns selbst zu verbinden\, der in der Sichtweise seiner Traditionen immer in Frieden ist\, frei und vollständig. “Whole”. In den alten buddhistischen Quellen\, von denen er vor allem mit den tibetischen Übungswegen verbunden ist\, wird dieser Teil oft „Buddha-Natur“ genannt. Diesen Bereich in uns selbst zu erfahren\, kann den Blick auf unser Leben sehr verändern. Wir erleben\, dass im Grunde nichts mit uns falsch ist. Wir machen einfach eine Erfahrung nach der anderen. Durch die Praxis der Leere und des Gewahrseins erlangen wir in dieser Perspektive Zugang zu unserer ursprünglichen Natur. Wenn wir in diesem ursprünglichen Wohlbefinden im Kern unseres Wesens verwurzelt sind\, können wir mit Mitgefühl auf die Teile von uns reagieren\, die wir als verwundet und gebrochen erleben. Das Gleichgewicht von Weisheit und Mitgefühl kann auf diese Weise zutiefst transformativ wirken und ein Geschenk der östlichen Weisheitstradition an die moderne westliche Psychologie darstellen. Choden wird eine Reihe von Weisheits- und Mitgefühlspraktiken anbieten\, die uns auf einer lebenslangen Reise der Wandlung und Heilung begleiten können. \nDas Seminar\, das auch als Retreat\, als Zeit des Rückzugs verstanden werden kann\, umfasst geführte Übungen\, Sitzmeditation und Zeiten der Stille. Zugleich erfahren die einzelnen Aspekte ein theoretische Einordnung und Einbettung. Es wird auch die Möglichkeit geben\, sich auszutauschen und zu diskutieren\, was durch die Praktiken entsteht. Die Tage sind eher für die Teilnehmenden persönlich gedacht und sicherlich werden Klientinnen und Klienten derer\, die in beraterischen Kontexten arbeiten\, ebenso davon profitieren. \nChoden verbindet in besonderer Weise das Wissen aus den Traditionen des tibetischen Buddhismus und der westlichen Psychologie aus der Compassion Focused Therapy (CFT). Er hat zusammen mit Paul Gilbert das Buch „Achtsames Mitgefühl“ geschrieben. Er spricht englisch und alle Teile des Workshops werden ins Deutsche übersetzt. \nDer Seminarort lädt zudem sehr dazu ein sich auszuruhen und zu erholen\, es lohnt sich eine Yogamatte o.ä. und Sitzkissen mitzubringen. Und im Februar sind Hallenbad und Sauna vielleicht auch sehr willkommen. \nSeminarbeginn: 26.02.2025 um 18.00 Uhr mit einem gemeinsamen Abendessen und einer Abendeinheit\nSeminarende: 02.03.2025 um 12.30 Uhr und einem gemeinsamen Mittagessen \nLeitung: Choden • Hier ist ein Interview mit ihm\, das einen guten Einblick gibt\nBegleitung und Übersetzung: Tom Pinkall
URL:https://dgkv.info/termin/dein-zartes-herz-seminar-mit-choden/
LOCATION:Gasthof Dorflinde\, Grasellenbach\, Siegfriedstr. 14\, Grasellenbach im Odenwald\, 64689\, Deutschland
ATTACH;FMTTYPE=image/jpeg:https://dgkv.info/wp-content/uploads/2022/06/mountain-small.jpg
ORGANIZER;CN="IF Weinheim":MAILTO:info@if-weinheim.de
GEO:49.62775;8.85682
X-APPLE-STRUCTURED-LOCATION;VALUE=URI;X-ADDRESS=Gasthof Dorflinde Grasellenbach Siegfriedstr. 14 Grasellenbach im Odenwald 64689 Deutschland;X-APPLE-RADIUS=500;X-TITLE=Siegfriedstr. 14:geo:8.85682,49.62775
END:VEVENT
BEGIN:VEVENT
DTSTART;VALUE=DATE:20250228
DTEND;VALUE=DATE:20250302
DTSTAMP:20260422T033757
CREATED:20241012T131342Z
LAST-MODIFIED:20241012T131755Z
UID:6791-1740700800-1740873599@dgkv.info
SUMMARY:Trainer*innenTreffen
DESCRIPTION:Die Trainer*innen der DGKV treffen sich 2025 erneut\, diesmal in München! \nGibst du Seminare\, Workshops oä zum Thema ACT\, CFT\, RFT\, PBP\, FAP oder anderen funktional-kontextuellen Ansätzen? Möchtest du dich mit anderen vernetzen\, Ideen\, Materialien\, Erfahrungen austauschen? \nDann werde Teil der Trainer*innenGruppe: \nhttps://dgkv.info/dgkv/gruppen/trainerinnen-der-dgkv/ \nund/oder wende dich gern direkt an die Ansprechpersonen um mehr zu erfahren:\nBertram Schlenkuhn\, mail@schenkluhn.net\nFrank Mutterlose\, frank.mutterlose@arcor.de
URL:https://dgkv.info/termin/trainerinnentreffen/
LOCATION:München\, Munich\, Germany
ATTACH;FMTTYPE=image/png:https://dgkv.info/wp-content/uploads/2024/10/trainer.png
GEO:29.9070119;-95.0675451
END:VEVENT
BEGIN:VEVENT
DTSTART;TZID=Europe/Berlin:20250228T140000
DTEND;TZID=Europe/Berlin:20250301T180000
DTSTAMP:20260422T033757
CREATED:20241018T065122Z
LAST-MODIFIED:20241018T161313Z
UID:6815-1740751200-1740852000@dgkv.info
SUMMARY:ACT mit Kindern\, Jugendlichen und ihren Bezugspersonen\, Einführung
DESCRIPTION:Der zweitägige Workshop führt erfahrungsbezogen in die ACT-Kernprozesse unter Berücksichtigung der jeweiligen Altersgruppen ein und bietet eine erste Übersicht über die theoretischen Grundlagen der ACT. Außerdem werden erste Fallkonzepte mit Hilfe der Matrix erstellt
URL:https://dgkv.info/termin/act-mit-kindern-jugendlichen-und-ihren-bezugspersonen-einfuehrung/
LOCATION:ACT-Lab-Hamburg\, Bahnhofstraße 15\, 22880 Wedel\, 22880\, Deutschland
ATTACH;FMTTYPE=image/png:https://dgkv.info/wp-content/uploads/2024/10/actlab_logo_square_tangerine_hh.png
ORGANIZER;CN="Tanja Cordshagen-Fischer":MAILTO:info@praxis-fischer-cordshagen.de
END:VEVENT
BEGIN:VEVENT
DTSTART;VALUE=DATE:20250303
DTEND;VALUE=DATE:20250305
DTSTAMP:20260422T033757
CREATED:20241030T201611Z
LAST-MODIFIED:20241030T201611Z
UID:6829-1740960000-1741132799@dgkv.info
SUMMARY:ACT TO GO Teil II - Verzeihen\, Abschied und Trauer: Weitere Tools für den therapeutischen und beraterischen Alltag
DESCRIPTION:In diesem Workshop werden die Grundlagen (wissenschaftliche Basis\, therapeutischen Kernprozesse\, RFT) als bekannt vorausgesetzt und nur kurz wiederholt. Schwerpunkt ist die konkrete\, praktische Anwendung der ACT-Prinzipien und Methoden sowie der „Relational Frame Theory“ (RFT) in der therapeutischen und beraterischen Arbeit in verschiedenen Kontexten. Besondere Schwerpunkte des Workshops sind die Auseinandersetzung mit den Themen Verzeihen\, Abschied und Trauer. Bezugnehmend auf diese werden gemeinsam Fallkonzeptionen und Interventionsmöglichkeiten abgeleitet. In erfahrungsgeleiteten Übungen (Rollenspielen\, Fallbeispielen\, Selbsterfahrung in Einzelarbeit und in der Kleingruppe) werden therapeutische Methoden und Fertigkeiten demonstriert\, eingeübt und reflektiert. \nDer Kenntnisstand der Teilnehmenden fließt als Kontextfaktor flexibel in den Workshop mit ein. Gemeinsamkeiten\, Bereicherungen und Unterschiede zwischen der ACT\, der Verhaltenstherapie und der Systemischen Therapie werden ausgewertet und diskutiert.
URL:https://dgkv.info/termin/act-to-go-teil-ii-verzeihen-abschied-und-trauer-weitere-tools-fuer-den-therapeutischen-und-beraterischen-alltag/
LOCATION:Institut für systemische Stduien Hamburg\, Neumünstersche Straße 14\, Hamburg\, Hamburg\, 20251\, Germany
ORGANIZER;CN="Institut f%C3%BCr systemische Studien e.V.":MAILTO:info@systemischestudien.de
END:VEVENT
BEGIN:VEVENT
DTSTART;TZID=Europe/Berlin:20250310T090000
DTEND;TZID=Europe/Berlin:20250310T123000
DTSTAMP:20260422T033757
CREATED:20241214T165150Z
LAST-MODIFIED:20241214T165150Z
UID:6891-1741597200-1741609800@dgkv.info
SUMMARY:FACT – Fokussierte Akzeptanz- und Commitment-Therapie Einführung und Training
DESCRIPTION:FACT – Fokussierte Akzeptanz- und Commitment-Therapie\nEinführung und Training\nKurzbeschreibung\nFACT ist die kurztherapeutische Variante von ACT. Kontextu-\nelle und funktionale Interviews\, die Erstellung eines handlungs-\norientierten 4-Quadrantenbogens sowie ein Reframing durch\nFragen und in Session-Übungen dienen dazu\, bereits in der\nersten Sitzung Flexibilität und damit wirksames inneres und äu-\nßeres Handeln zu fördern. Dabei wird sich in Interviews\, Kon-\nzeptualisierung und Intervention an den „ACT Augen“ von Of-\nfenheit\, Gewahrsein und Engagiertheit (drei Säulen) orientiert.\nDie Einführung findet in fünf aufeinander folgenden Sitzungen\n(je 4 UE) statt. Eine weitere Trainings-\, Refresh- und Supervi-\nsions-Einheit (4 UE) findet ca. vier Wochen später statt.\nZielgruppe\nPsychotherapeut*innen (Beratung\, Therapie)\, Coaches und\nPiAs\, welche bereits über ACT-Grundkenntnisse verfügen.\nErste praktische Erfahrungen mit ACT sind wünschenswert.\nLernziele\n• Verstehen des „Roten Fadens“ von Einschätzung und\nAusführung (Konzept und Intervention)\n• Zuordnung und Nutzung der drei Säulen\n• Kleines Inventar von FACT Übungen\n• Durchführung im überschaubaren Rahmen\nWesentliche\nInhalte/Themen\n• Befragung als Intervention\n• Offenheit\, Gegenwärtigkeit und Engagiertheit als überge-\nordnete Kernprozessorientierungen\n• Übungen\n• Training\nMethoden Übungen in Breakout Rooms oder angeleitet in der Groß-\ngruppe\, Demos\, Fallbeispiele\nReferent*in\nFrank Mutterlose\, Dipl.-Psych.\, M.A. Philosophie\, Soziologie\nund Religionswissenschaften\, Psychologischer Psychothera-\npeut; Potsdam\nKursnummer 66133
URL:https://dgkv.info/termin/fact-fokussierte-akzeptanz-und-commitment-therapie-einfuehrung-und-training/2025-03-10/
LOCATION:Zoom\, Online-Seminar
ATTACH;FMTTYPE=image/jpeg:https://dgkv.info/wp-content/uploads/2024/12/Der-Weg-compressed1-scaled.jpg
ORGANIZER;CN="DGVT":MAILTO:fortbildung@dgvt.de
END:VEVENT
BEGIN:VEVENT
DTSTART;TZID=Europe/Berlin:20250311T090000
DTEND;TZID=Europe/Berlin:20250311T123000
DTSTAMP:20260422T033757
CREATED:20241214T165150Z
LAST-MODIFIED:20241214T165150Z
UID:6892-1741683600-1741696200@dgkv.info
SUMMARY:FACT – Fokussierte Akzeptanz- und Commitment-Therapie Einführung und Training
DESCRIPTION:FACT – Fokussierte Akzeptanz- und Commitment-Therapie\nEinführung und Training\nKurzbeschreibung\nFACT ist die kurztherapeutische Variante von ACT. Kontextu-\nelle und funktionale Interviews\, die Erstellung eines handlungs-\norientierten 4-Quadrantenbogens sowie ein Reframing durch\nFragen und in Session-Übungen dienen dazu\, bereits in der\nersten Sitzung Flexibilität und damit wirksames inneres und äu-\nßeres Handeln zu fördern. Dabei wird sich in Interviews\, Kon-\nzeptualisierung und Intervention an den „ACT Augen“ von Of-\nfenheit\, Gewahrsein und Engagiertheit (drei Säulen) orientiert.\nDie Einführung findet in fünf aufeinander folgenden Sitzungen\n(je 4 UE) statt. Eine weitere Trainings-\, Refresh- und Supervi-\nsions-Einheit (4 UE) findet ca. vier Wochen später statt.\nZielgruppe\nPsychotherapeut*innen (Beratung\, Therapie)\, Coaches und\nPiAs\, welche bereits über ACT-Grundkenntnisse verfügen.\nErste praktische Erfahrungen mit ACT sind wünschenswert.\nLernziele\n• Verstehen des „Roten Fadens“ von Einschätzung und\nAusführung (Konzept und Intervention)\n• Zuordnung und Nutzung der drei Säulen\n• Kleines Inventar von FACT Übungen\n• Durchführung im überschaubaren Rahmen\nWesentliche\nInhalte/Themen\n• Befragung als Intervention\n• Offenheit\, Gegenwärtigkeit und Engagiertheit als überge-\nordnete Kernprozessorientierungen\n• Übungen\n• Training\nMethoden Übungen in Breakout Rooms oder angeleitet in der Groß-\ngruppe\, Demos\, Fallbeispiele\nReferent*in\nFrank Mutterlose\, Dipl.-Psych.\, M.A. Philosophie\, Soziologie\nund Religionswissenschaften\, Psychologischer Psychothera-\npeut; Potsdam\nKursnummer 66133
URL:https://dgkv.info/termin/fact-fokussierte-akzeptanz-und-commitment-therapie-einfuehrung-und-training/2025-03-11/
LOCATION:Zoom\, Online-Seminar
ATTACH;FMTTYPE=image/jpeg:https://dgkv.info/wp-content/uploads/2024/12/Der-Weg-compressed1-scaled.jpg
ORGANIZER;CN="DGVT":MAILTO:fortbildung@dgvt.de
END:VEVENT
BEGIN:VEVENT
DTSTART;TZID=Europe/Berlin:20250312T090000
DTEND;TZID=Europe/Berlin:20250312T123000
DTSTAMP:20260422T033757
CREATED:20241214T165150Z
LAST-MODIFIED:20241214T165150Z
UID:6893-1741770000-1741782600@dgkv.info
SUMMARY:FACT – Fokussierte Akzeptanz- und Commitment-Therapie Einführung und Training
DESCRIPTION:FACT – Fokussierte Akzeptanz- und Commitment-Therapie\nEinführung und Training\nKurzbeschreibung\nFACT ist die kurztherapeutische Variante von ACT. Kontextu-\nelle und funktionale Interviews\, die Erstellung eines handlungs-\norientierten 4-Quadrantenbogens sowie ein Reframing durch\nFragen und in Session-Übungen dienen dazu\, bereits in der\nersten Sitzung Flexibilität und damit wirksames inneres und äu-\nßeres Handeln zu fördern. Dabei wird sich in Interviews\, Kon-\nzeptualisierung und Intervention an den „ACT Augen“ von Of-\nfenheit\, Gewahrsein und Engagiertheit (drei Säulen) orientiert.\nDie Einführung findet in fünf aufeinander folgenden Sitzungen\n(je 4 UE) statt. Eine weitere Trainings-\, Refresh- und Supervi-\nsions-Einheit (4 UE) findet ca. vier Wochen später statt.\nZielgruppe\nPsychotherapeut*innen (Beratung\, Therapie)\, Coaches und\nPiAs\, welche bereits über ACT-Grundkenntnisse verfügen.\nErste praktische Erfahrungen mit ACT sind wünschenswert.\nLernziele\n• Verstehen des „Roten Fadens“ von Einschätzung und\nAusführung (Konzept und Intervention)\n• Zuordnung und Nutzung der drei Säulen\n• Kleines Inventar von FACT Übungen\n• Durchführung im überschaubaren Rahmen\nWesentliche\nInhalte/Themen\n• Befragung als Intervention\n• Offenheit\, Gegenwärtigkeit und Engagiertheit als überge-\nordnete Kernprozessorientierungen\n• Übungen\n• Training\nMethoden Übungen in Breakout Rooms oder angeleitet in der Groß-\ngruppe\, Demos\, Fallbeispiele\nReferent*in\nFrank Mutterlose\, Dipl.-Psych.\, M.A. Philosophie\, Soziologie\nund Religionswissenschaften\, Psychologischer Psychothera-\npeut; Potsdam\nKursnummer 66133
URL:https://dgkv.info/termin/fact-fokussierte-akzeptanz-und-commitment-therapie-einfuehrung-und-training/2025-03-12/
LOCATION:Zoom\, Online-Seminar
ATTACH;FMTTYPE=image/jpeg:https://dgkv.info/wp-content/uploads/2024/12/Der-Weg-compressed1-scaled.jpg
ORGANIZER;CN="DGVT":MAILTO:fortbildung@dgvt.de
END:VEVENT
BEGIN:VEVENT
DTSTART;TZID=Europe/Berlin:20250313T090000
DTEND;TZID=Europe/Berlin:20250313T123000
DTSTAMP:20260422T033757
CREATED:20241214T165150Z
LAST-MODIFIED:20241214T165150Z
UID:6894-1741856400-1741869000@dgkv.info
SUMMARY:FACT – Fokussierte Akzeptanz- und Commitment-Therapie Einführung und Training
DESCRIPTION:FACT – Fokussierte Akzeptanz- und Commitment-Therapie\nEinführung und Training\nKurzbeschreibung\nFACT ist die kurztherapeutische Variante von ACT. Kontextu-\nelle und funktionale Interviews\, die Erstellung eines handlungs-\norientierten 4-Quadrantenbogens sowie ein Reframing durch\nFragen und in Session-Übungen dienen dazu\, bereits in der\nersten Sitzung Flexibilität und damit wirksames inneres und äu-\nßeres Handeln zu fördern. Dabei wird sich in Interviews\, Kon-\nzeptualisierung und Intervention an den „ACT Augen“ von Of-\nfenheit\, Gewahrsein und Engagiertheit (drei Säulen) orientiert.\nDie Einführung findet in fünf aufeinander folgenden Sitzungen\n(je 4 UE) statt. Eine weitere Trainings-\, Refresh- und Supervi-\nsions-Einheit (4 UE) findet ca. vier Wochen später statt.\nZielgruppe\nPsychotherapeut*innen (Beratung\, Therapie)\, Coaches und\nPiAs\, welche bereits über ACT-Grundkenntnisse verfügen.\nErste praktische Erfahrungen mit ACT sind wünschenswert.\nLernziele\n• Verstehen des „Roten Fadens“ von Einschätzung und\nAusführung (Konzept und Intervention)\n• Zuordnung und Nutzung der drei Säulen\n• Kleines Inventar von FACT Übungen\n• Durchführung im überschaubaren Rahmen\nWesentliche\nInhalte/Themen\n• Befragung als Intervention\n• Offenheit\, Gegenwärtigkeit und Engagiertheit als überge-\nordnete Kernprozessorientierungen\n• Übungen\n• Training\nMethoden Übungen in Breakout Rooms oder angeleitet in der Groß-\ngruppe\, Demos\, Fallbeispiele\nReferent*in\nFrank Mutterlose\, Dipl.-Psych.\, M.A. Philosophie\, Soziologie\nund Religionswissenschaften\, Psychologischer Psychothera-\npeut; Potsdam\nKursnummer 66133
URL:https://dgkv.info/termin/fact-fokussierte-akzeptanz-und-commitment-therapie-einfuehrung-und-training/2025-03-13/
LOCATION:Zoom\, Online-Seminar
ATTACH;FMTTYPE=image/jpeg:https://dgkv.info/wp-content/uploads/2024/12/Der-Weg-compressed1-scaled.jpg
ORGANIZER;CN="DGVT":MAILTO:fortbildung@dgvt.de
END:VEVENT
BEGIN:VEVENT
DTSTART;TZID=Europe/Berlin:20250314T090000
DTEND;TZID=Europe/Berlin:20250314T123000
DTSTAMP:20260422T033757
CREATED:20241214T165150Z
LAST-MODIFIED:20241214T165150Z
UID:6895-1741942800-1741955400@dgkv.info
SUMMARY:FACT – Fokussierte Akzeptanz- und Commitment-Therapie Einführung und Training
DESCRIPTION:FACT – Fokussierte Akzeptanz- und Commitment-Therapie\nEinführung und Training\nKurzbeschreibung\nFACT ist die kurztherapeutische Variante von ACT. Kontextu-\nelle und funktionale Interviews\, die Erstellung eines handlungs-\norientierten 4-Quadrantenbogens sowie ein Reframing durch\nFragen und in Session-Übungen dienen dazu\, bereits in der\nersten Sitzung Flexibilität und damit wirksames inneres und äu-\nßeres Handeln zu fördern. Dabei wird sich in Interviews\, Kon-\nzeptualisierung und Intervention an den „ACT Augen“ von Of-\nfenheit\, Gewahrsein und Engagiertheit (drei Säulen) orientiert.\nDie Einführung findet in fünf aufeinander folgenden Sitzungen\n(je 4 UE) statt. Eine weitere Trainings-\, Refresh- und Supervi-\nsions-Einheit (4 UE) findet ca. vier Wochen später statt.\nZielgruppe\nPsychotherapeut*innen (Beratung\, Therapie)\, Coaches und\nPiAs\, welche bereits über ACT-Grundkenntnisse verfügen.\nErste praktische Erfahrungen mit ACT sind wünschenswert.\nLernziele\n• Verstehen des „Roten Fadens“ von Einschätzung und\nAusführung (Konzept und Intervention)\n• Zuordnung und Nutzung der drei Säulen\n• Kleines Inventar von FACT Übungen\n• Durchführung im überschaubaren Rahmen\nWesentliche\nInhalte/Themen\n• Befragung als Intervention\n• Offenheit\, Gegenwärtigkeit und Engagiertheit als überge-\nordnete Kernprozessorientierungen\n• Übungen\n• Training\nMethoden Übungen in Breakout Rooms oder angeleitet in der Groß-\ngruppe\, Demos\, Fallbeispiele\nReferent*in\nFrank Mutterlose\, Dipl.-Psych.\, M.A. Philosophie\, Soziologie\nund Religionswissenschaften\, Psychologischer Psychothera-\npeut; Potsdam\nKursnummer 66133
URL:https://dgkv.info/termin/fact-fokussierte-akzeptanz-und-commitment-therapie-einfuehrung-und-training/2025-03-14/
LOCATION:Zoom\, Online-Seminar
ATTACH;FMTTYPE=image/jpeg:https://dgkv.info/wp-content/uploads/2024/12/Der-Weg-compressed1-scaled.jpg
ORGANIZER;CN="DGVT":MAILTO:fortbildung@dgvt.de
END:VEVENT
BEGIN:VEVENT
DTSTART;TZID=Europe/Berlin:20250320T190000
DTEND;TZID=Europe/Berlin:20250320T210000
DTSTAMP:20260422T033757
CREATED:20241008T183233Z
LAST-MODIFIED:20260204T132458Z
UID:6771-1742497200-1742504400@dgkv.info
SUMMARY:Kongress 2026 – Neugierigen-Treffen
DESCRIPTION:Hast du Lust den nächsten Kongress 2026 mitzugestalten?\nEs gibt eine Infoveranstaltung für den Kongress 2026! \nInformiere dich\, organisiere dich am 20.03.2025 um 19:00 Uhr online! \nKongresse sind für dich immer zu weit weg\, doch deine Stadt ist wunderbar und eignet sich toll für Kongresse? Keine Ahnung wie Kongress geht\, aber du wolltest schon immer mal einen Workshop bei diesem*r spezielle*n Vortragende*m im Programm haben? Dann komm und gestalte mit! \n 
URL:https://dgkv.info/termin/kongress-2026-neugierigen-treffen/
ATTACH;FMTTYPE=image/jpeg:https://dgkv.info/wp-content/uploads/2024/10/dde58600be2d94cf42a9681ee3eaa64e-2488981159.jpg
END:VEVENT
BEGIN:VEVENT
DTSTART;TZID=Europe/Berlin:20250326T090000
DTEND;TZID=Europe/Berlin:20250326T123000
DTSTAMP:20260422T033757
CREATED:20241214T165150Z
LAST-MODIFIED:20241214T165150Z
UID:6896-1742979600-1742992200@dgkv.info
SUMMARY:FACT – Fokussierte Akzeptanz- und Commitment-Therapie Einführung und Training
DESCRIPTION:FACT – Fokussierte Akzeptanz- und Commitment-Therapie\nEinführung und Training\nKurzbeschreibung\nFACT ist die kurztherapeutische Variante von ACT. Kontextu-\nelle und funktionale Interviews\, die Erstellung eines handlungs-\norientierten 4-Quadrantenbogens sowie ein Reframing durch\nFragen und in Session-Übungen dienen dazu\, bereits in der\nersten Sitzung Flexibilität und damit wirksames inneres und äu-\nßeres Handeln zu fördern. Dabei wird sich in Interviews\, Kon-\nzeptualisierung und Intervention an den „ACT Augen“ von Of-\nfenheit\, Gewahrsein und Engagiertheit (drei Säulen) orientiert.\nDie Einführung findet in fünf aufeinander folgenden Sitzungen\n(je 4 UE) statt. Eine weitere Trainings-\, Refresh- und Supervi-\nsions-Einheit (4 UE) findet ca. vier Wochen später statt.\nZielgruppe\nPsychotherapeut*innen (Beratung\, Therapie)\, Coaches und\nPiAs\, welche bereits über ACT-Grundkenntnisse verfügen.\nErste praktische Erfahrungen mit ACT sind wünschenswert.\nLernziele\n• Verstehen des „Roten Fadens“ von Einschätzung und\nAusführung (Konzept und Intervention)\n• Zuordnung und Nutzung der drei Säulen\n• Kleines Inventar von FACT Übungen\n• Durchführung im überschaubaren Rahmen\nWesentliche\nInhalte/Themen\n• Befragung als Intervention\n• Offenheit\, Gegenwärtigkeit und Engagiertheit als überge-\nordnete Kernprozessorientierungen\n• Übungen\n• Training\nMethoden Übungen in Breakout Rooms oder angeleitet in der Groß-\ngruppe\, Demos\, Fallbeispiele\nReferent*in\nFrank Mutterlose\, Dipl.-Psych.\, M.A. Philosophie\, Soziologie\nund Religionswissenschaften\, Psychologischer Psychothera-\npeut; Potsdam\nKursnummer 66133
URL:https://dgkv.info/termin/fact-fokussierte-akzeptanz-und-commitment-therapie-einfuehrung-und-training/2025-03-26/
LOCATION:Zoom\, Online-Seminar
ATTACH;FMTTYPE=image/jpeg:https://dgkv.info/wp-content/uploads/2024/12/Der-Weg-compressed1-scaled.jpg
ORGANIZER;CN="DGVT":MAILTO:fortbildung@dgvt.de
END:VEVENT
END:VCALENDAR