BEGIN:VCALENDAR
VERSION:2.0
PRODID:-//DGKV - ECPv6.15.20//NONSGML v1.0//EN
CALSCALE:GREGORIAN
METHOD:PUBLISH
X-ORIGINAL-URL:https://dgkv.info
X-WR-CALDESC:Veranstaltungen für DGKV
REFRESH-INTERVAL;VALUE=DURATION:PT1H
X-Robots-Tag:noindex
X-PUBLISHED-TTL:PT1H
BEGIN:VTIMEZONE
TZID:Europe/Berlin
BEGIN:DAYLIGHT
TZOFFSETFROM:+0100
TZOFFSETTO:+0200
TZNAME:CEST
DTSTART:20220327T010000
END:DAYLIGHT
BEGIN:STANDARD
TZOFFSETFROM:+0200
TZOFFSETTO:+0100
TZNAME:CET
DTSTART:20221030T010000
END:STANDARD
BEGIN:DAYLIGHT
TZOFFSETFROM:+0100
TZOFFSETTO:+0200
TZNAME:CEST
DTSTART:20230326T010000
END:DAYLIGHT
BEGIN:STANDARD
TZOFFSETFROM:+0200
TZOFFSETTO:+0100
TZNAME:CET
DTSTART:20231029T010000
END:STANDARD
BEGIN:DAYLIGHT
TZOFFSETFROM:+0100
TZOFFSETTO:+0200
TZNAME:CEST
DTSTART:20240331T010000
END:DAYLIGHT
BEGIN:STANDARD
TZOFFSETFROM:+0200
TZOFFSETTO:+0100
TZNAME:CET
DTSTART:20241027T010000
END:STANDARD
END:VTIMEZONE
BEGIN:VEVENT
DTSTART;TZID=Europe/Berlin:20230512T140000
DTEND;TZID=Europe/Berlin:20230513T180000
DTSTAMP:20260422T090153
CREATED:20211122T101005Z
LAST-MODIFIED:20220815T103110Z
UID:5555-1683900000-1684000800@dgkv.info
SUMMARY:ACT mit Kindern
DESCRIPTION:Insbesondere in der Arbeit mit Kindern ist dem Alters- und Entwicklung Aspekt Rechnung zu tragen. Je jünger die Kinder sind und je weniger entwickelt sprachlich geleitetes Verhalten ist\, desto weniger geeignet sind direkt aus dem Hexaflex abzuleitende Interventionen. Bei Kleinkindern und Vorschulkindern sind für die Planung von Interventionen zusätzlich zu den klassischen Lerntheorien Aspekte aus der RFT (Bezugsrahmentheorie) äußerst hilfreich für die Planung passgenauer Interventionen. So ist z.B. das aus der RFT kommende Konzept von regelgeleitetem Verhalten (es werden 3 Formen – Pliance\, Tracking und Augmenting- unterschieden) und Kontextsensitivität passend\, um im Rahmen der Psychotherapie den Kindern zu helfen\, neues Verhalten auszuprobieren und so mehr Verhaltensflexibilität zu erlangen.\nIn diesem Seminar soll der hierfür nötige theoretische Hintergrund vertieft werden\, Fallkonzepte erstellt und praktische Übungen gezeigt und gemeinsam durchgeführt werden.
URL:https://dgkv.info/termin/act-mit-kindern/
LOCATION:ACT-Lab-Hamburg\, Bahnhofstraße 15\, 22880 Wedel\, 22880\, Deutschland
CATEGORIES:Workshop
ORGANIZER;CN="Tanja Cordshagen-Fischer":MAILTO:info@praxis-fischer-cordshagen.de
END:VEVENT
END:VCALENDAR