BEGIN:VCALENDAR
VERSION:2.0
PRODID:-//DGKV - ECPv6.15.20//NONSGML v1.0//EN
CALSCALE:GREGORIAN
METHOD:PUBLISH
X-WR-CALNAME:DGKV
X-ORIGINAL-URL:https://dgkv.info
X-WR-CALDESC:Veranstaltungen für DGKV
REFRESH-INTERVAL;VALUE=DURATION:PT1H
X-Robots-Tag:noindex
X-PUBLISHED-TTL:PT1H
BEGIN:VTIMEZONE
TZID:Europe/Berlin
BEGIN:DAYLIGHT
TZOFFSETFROM:+0100
TZOFFSETTO:+0200
TZNAME:CEST
DTSTART:20150329T010000
END:DAYLIGHT
BEGIN:STANDARD
TZOFFSETFROM:+0200
TZOFFSETTO:+0100
TZNAME:CET
DTSTART:20151025T010000
END:STANDARD
BEGIN:DAYLIGHT
TZOFFSETFROM:+0100
TZOFFSETTO:+0200
TZNAME:CEST
DTSTART:20160327T010000
END:DAYLIGHT
BEGIN:STANDARD
TZOFFSETFROM:+0200
TZOFFSETTO:+0100
TZNAME:CET
DTSTART:20161030T010000
END:STANDARD
BEGIN:DAYLIGHT
TZOFFSETFROM:+0100
TZOFFSETTO:+0200
TZNAME:CEST
DTSTART:20170326T010000
END:DAYLIGHT
BEGIN:STANDARD
TZOFFSETFROM:+0200
TZOFFSETTO:+0100
TZNAME:CET
DTSTART:20171029T010000
END:STANDARD
END:VTIMEZONE
BEGIN:VEVENT
DTSTART;TZID=Europe/Berlin:20160604T100000
DTEND;TZID=Europe/Berlin:20160604T150000
DTSTAMP:20260424T155835
CREATED:20160513T102131Z
LAST-MODIFIED:20160513T102131Z
UID:1266-1465034400-1465052400@dgkv.info
SUMMARY:ACT-Intervisionstreffen in Stuttgart
DESCRIPTION:In überschaubarer und informell-entspannter Runde wollen wir uns austauschen\, ACT noch besser kennenlernen\, Fertigkeiten und Übungen entwickeln und vertiefen\, je nach Interessenlage auch Fälle und andere Fragestellungen besprechen\, zusammen Mittagessen…  und … und…  Zum Einstieg – und je nach Interesse – erscheinen das ACT-Hexaflex (Modell psychischer Flexibilität)\, die ACT-Matrix (www.actmatrix.de) oder auch die achtsamkeitsbasierte Rückfallprävention (z.B. in der Suchtnachsorge) geeignet… \n  \nUm (auch mit Blick auf r äumlich e Begrenzungen ) planen zu können\,  bitten mir um möglichst frühzeitige Anmeldung bzw. Rückmeldung\, ob Sie an einem oder beiden Termine teilnehmen möchten. Bei Interesse wollen wir diese Veranstaltung künftig fortführen. \nFür Rückfragen oder Anregungen\, auch zur inhaltlichen Gestaltung\, einfach mailen. Gerne können Sie diese Einladung auch an interessierte Kollegen weiterleiten. Wir freuen uns auf einen lebendigen Austausch! \nAnmeldungen und weitere Infos über KAckermann@ahg.de bzw. info@actmatrix.de. \n 
URL:https://dgkv.info/termin/act-intervisionstreffen-stuttgart/
LOCATION:AHG Tagesklinik Stuttgart\, Rotebühlstr. 133\, Haus 1\, Ebene 3\, Stuttgart\, 70197\, Deutschland
CATEGORIES:Intervisionsgruppe
ORGANIZER;CN="Dr. Klaus Ackermann%2C Psychologischer Psychotherapeut":MAILTO:KAckermann@ahg.de
GEO:48.7716577;9.1494571
X-APPLE-STRUCTURED-LOCATION;VALUE=URI;X-ADDRESS=AHG Tagesklinik Stuttgart Rotebühlstr. 133 Haus 1 Ebene 3 Stuttgart 70197 Deutschland;X-APPLE-RADIUS=500;X-TITLE=Rotebühlstr. 133\, Haus 1\, Ebene 3:geo:9.1494571,48.7716577
END:VEVENT
END:VCALENDAR