BEGIN:VCALENDAR
VERSION:2.0
PRODID:-//DGKV - ECPv6.15.20//NONSGML v1.0//EN
CALSCALE:GREGORIAN
METHOD:PUBLISH
X-WR-CALNAME:DGKV
X-ORIGINAL-URL:https://dgkv.info
X-WR-CALDESC:Veranstaltungen für DGKV
REFRESH-INTERVAL;VALUE=DURATION:PT1H
X-Robots-Tag:noindex
X-PUBLISHED-TTL:PT1H
BEGIN:VTIMEZONE
TZID:Europe/Berlin
BEGIN:DAYLIGHT
TZOFFSETFROM:+0100
TZOFFSETTO:+0200
TZNAME:CEST
DTSTART:20180325T010000
END:DAYLIGHT
BEGIN:STANDARD
TZOFFSETFROM:+0200
TZOFFSETTO:+0100
TZNAME:CET
DTSTART:20181028T010000
END:STANDARD
BEGIN:DAYLIGHT
TZOFFSETFROM:+0100
TZOFFSETTO:+0200
TZNAME:CEST
DTSTART:20190331T010000
END:DAYLIGHT
BEGIN:STANDARD
TZOFFSETFROM:+0200
TZOFFSETTO:+0100
TZNAME:CET
DTSTART:20191027T010000
END:STANDARD
BEGIN:DAYLIGHT
TZOFFSETFROM:+0100
TZOFFSETTO:+0200
TZNAME:CEST
DTSTART:20200329T010000
END:DAYLIGHT
BEGIN:STANDARD
TZOFFSETFROM:+0200
TZOFFSETTO:+0100
TZNAME:CET
DTSTART:20201025T010000
END:STANDARD
BEGIN:DAYLIGHT
TZOFFSETFROM:+0100
TZOFFSETTO:+0200
TZNAME:CEST
DTSTART:20210328T010000
END:DAYLIGHT
BEGIN:STANDARD
TZOFFSETFROM:+0200
TZOFFSETTO:+0100
TZNAME:CET
DTSTART:20211031T010000
END:STANDARD
BEGIN:DAYLIGHT
TZOFFSETFROM:+0100
TZOFFSETTO:+0200
TZNAME:CEST
DTSTART:20220327T010000
END:DAYLIGHT
BEGIN:STANDARD
TZOFFSETFROM:+0200
TZOFFSETTO:+0100
TZNAME:CET
DTSTART:20221030T010000
END:STANDARD
BEGIN:DAYLIGHT
TZOFFSETFROM:+0100
TZOFFSETTO:+0200
TZNAME:CEST
DTSTART:20230326T010000
END:DAYLIGHT
BEGIN:STANDARD
TZOFFSETFROM:+0200
TZOFFSETTO:+0100
TZNAME:CET
DTSTART:20231029T010000
END:STANDARD
BEGIN:DAYLIGHT
TZOFFSETFROM:+0100
TZOFFSETTO:+0200
TZNAME:CEST
DTSTART:20240331T010000
END:DAYLIGHT
BEGIN:STANDARD
TZOFFSETFROM:+0200
TZOFFSETTO:+0100
TZNAME:CET
DTSTART:20241027T010000
END:STANDARD
BEGIN:DAYLIGHT
TZOFFSETFROM:+0100
TZOFFSETTO:+0200
TZNAME:CEST
DTSTART:20250330T010000
END:DAYLIGHT
BEGIN:STANDARD
TZOFFSETFROM:+0200
TZOFFSETTO:+0100
TZNAME:CET
DTSTART:20251026T010000
END:STANDARD
BEGIN:DAYLIGHT
TZOFFSETFROM:+0100
TZOFFSETTO:+0200
TZNAME:CEST
DTSTART:20260329T010000
END:DAYLIGHT
BEGIN:STANDARD
TZOFFSETFROM:+0200
TZOFFSETTO:+0100
TZNAME:CET
DTSTART:20261025T010000
END:STANDARD
END:VTIMEZONE
BEGIN:VEVENT
DTSTART;TZID=Europe/Berlin:20250719T100000
DTEND;TZID=Europe/Berlin:20250719T180000
DTSTAMP:20260421T152140
CREATED:20241108T101403Z
LAST-MODIFIED:20241108T101403Z
UID:6860-1752919200-1752948000@dgkv.info
SUMMARY:Jump In ACT - Workshopreihe
DESCRIPTION:Die dreiteilige Workshop-Reihe (+ Supervisiontag) zur Einführung in die ACT „Jump In ACT“ bietet Ärzten\, Fach-Therapeuten\, PPIAs\, Sozialarbeitern/-pädagogen\, Coaches\, Studenten\, … und allen anderen professionell Interessierten die Möglichkeit\, ACT kennenzulernen und sich mit Hilfe erfahrungsorientierter praktischer Übungen anzueignen. \nJump In ACT I am 11. und 12.04.2025\nJump In ACT II am 16. und 17.05.2025\nJump In ACT III am 13. und 14.06.2025\nSupervisionstag am 19.07.2025
URL:https://dgkv.info/termin/jump-in-act-workshopreihe-2/2025-07-19/
LOCATION:ACT-Netzwerk Berlin-Brandenburg\, Friedelstr. 40 HH (im SIA)\, Berlin\, 12047\, Deutschland
ORGANIZER;CN="ACT-Netzwerk Berlin-Brandenburg":MAILTO:info@act-netzwerk-bb.de
GEO:52.4918111;13.4275503
X-APPLE-STRUCTURED-LOCATION;VALUE=URI;X-ADDRESS=ACT-Netzwerk Berlin-Brandenburg Friedelstr. 40 HH (im SIA) Berlin 12047 Deutschland;X-APPLE-RADIUS=500;X-TITLE=Friedelstr. 40 HH (im SIA):geo:13.4275503,52.4918111
END:VEVENT
BEGIN:VEVENT
DTSTART;VALUE=DATE:20250705
DTEND;VALUE=DATE:20250706
DTSTAMP:20260421T152140
CREATED:20241108T095955Z
LAST-MODIFIED:20241108T095955Z
UID:6847-1751673600-1751759999@dgkv.info
SUMMARY:FLEXIVAL
DESCRIPTION:Das Flexival des ACT-Netzwerkes Berlin-Brandenburg bietet einen lebendigen und kreativen Tag voller Erfahrungen und Austausch zu ACT und Co. in den wunscher schönen Räumen des SIA Berlin
URL:https://dgkv.info/termin/flexival/
LOCATION:ACT-Netzwerk Berlin-Brandenburg\, Friedelstr. 40 HH (im SIA)\, Berlin\, 12047\, Deutschland
ORGANIZER;CN="ACT-Netzwerk Berlin-Brandenburg":MAILTO:info@act-netzwerk-bb.de
GEO:52.4918111;13.4275503
X-APPLE-STRUCTURED-LOCATION;VALUE=URI;X-ADDRESS=ACT-Netzwerk Berlin-Brandenburg Friedelstr. 40 HH (im SIA) Berlin 12047 Deutschland;X-APPLE-RADIUS=500;X-TITLE=Friedelstr. 40 HH (im SIA):geo:13.4275503,52.4918111
END:VEVENT
BEGIN:VEVENT
DTSTART;TZID=Europe/Berlin:20250614T100000
DTEND;TZID=Europe/Berlin:20250614T170000
DTSTAMP:20260421T152140
CREATED:20241108T101403Z
LAST-MODIFIED:20241108T101403Z
UID:6859-1749895200-1749920400@dgkv.info
SUMMARY:Jump In ACT - Workshopreihe
DESCRIPTION:Die dreiteilige Workshop-Reihe (+ Supervisiontag) zur Einführung in die ACT „Jump In ACT“ bietet Ärzten\, Fach-Therapeuten\, PPIAs\, Sozialarbeitern/-pädagogen\, Coaches\, Studenten\, … und allen anderen professionell Interessierten die Möglichkeit\, ACT kennenzulernen und sich mit Hilfe erfahrungsorientierter praktischer Übungen anzueignen. \nJump In ACT I am 11. und 12.04.2025\nJump In ACT II am 16. und 17.05.2025\nJump In ACT III am 13. und 14.06.2025\nSupervisionstag am 19.07.2025
URL:https://dgkv.info/termin/jump-in-act-workshopreihe-2/2025-06-14/
LOCATION:ACT-Netzwerk Berlin-Brandenburg\, Friedelstr. 40 HH (im SIA)\, Berlin\, 12047\, Deutschland
ORGANIZER;CN="ACT-Netzwerk Berlin-Brandenburg":MAILTO:info@act-netzwerk-bb.de
GEO:52.4918111;13.4275503
X-APPLE-STRUCTURED-LOCATION;VALUE=URI;X-ADDRESS=ACT-Netzwerk Berlin-Brandenburg Friedelstr. 40 HH (im SIA) Berlin 12047 Deutschland;X-APPLE-RADIUS=500;X-TITLE=Friedelstr. 40 HH (im SIA):geo:13.4275503,52.4918111
END:VEVENT
BEGIN:VEVENT
DTSTART;TZID=Europe/Berlin:20250613T140000
DTEND;TZID=Europe/Berlin:20250613T193000
DTSTAMP:20260421T152140
CREATED:20241108T101403Z
LAST-MODIFIED:20241108T101403Z
UID:6858-1749823200-1749843000@dgkv.info
SUMMARY:Jump In ACT - Workshopreihe
DESCRIPTION:Die dreiteilige Workshop-Reihe (+ Supervisiontag) zur Einführung in die ACT „Jump In ACT“ bietet Ärzten\, Fach-Therapeuten\, PPIAs\, Sozialarbeitern/-pädagogen\, Coaches\, Studenten\, … und allen anderen professionell Interessierten die Möglichkeit\, ACT kennenzulernen und sich mit Hilfe erfahrungsorientierter praktischer Übungen anzueignen. \nJump In ACT I am 11. und 12.04.2025\nJump In ACT II am 16. und 17.05.2025\nJump In ACT III am 13. und 14.06.2025\nSupervisionstag am 19.07.2025
URL:https://dgkv.info/termin/jump-in-act-workshopreihe-2/2025-06-13/
LOCATION:ACT-Netzwerk Berlin-Brandenburg\, Friedelstr. 40 HH (im SIA)\, Berlin\, 12047\, Deutschland
ORGANIZER;CN="ACT-Netzwerk Berlin-Brandenburg":MAILTO:info@act-netzwerk-bb.de
GEO:52.4918111;13.4275503
X-APPLE-STRUCTURED-LOCATION;VALUE=URI;X-ADDRESS=ACT-Netzwerk Berlin-Brandenburg Friedelstr. 40 HH (im SIA) Berlin 12047 Deutschland;X-APPLE-RADIUS=500;X-TITLE=Friedelstr. 40 HH (im SIA):geo:13.4275503,52.4918111
END:VEVENT
BEGIN:VEVENT
DTSTART;TZID=Europe/Berlin:20250517T100000
DTEND;TZID=Europe/Berlin:20250517T170000
DTSTAMP:20260421T152140
CREATED:20241108T101403Z
LAST-MODIFIED:20241108T101403Z
UID:6857-1747476000-1747501200@dgkv.info
SUMMARY:Jump In ACT - Workshopreihe
DESCRIPTION:Die dreiteilige Workshop-Reihe (+ Supervisiontag) zur Einführung in die ACT „Jump In ACT“ bietet Ärzten\, Fach-Therapeuten\, PPIAs\, Sozialarbeitern/-pädagogen\, Coaches\, Studenten\, … und allen anderen professionell Interessierten die Möglichkeit\, ACT kennenzulernen und sich mit Hilfe erfahrungsorientierter praktischer Übungen anzueignen. \nJump In ACT I am 11. und 12.04.2025\nJump In ACT II am 16. und 17.05.2025\nJump In ACT III am 13. und 14.06.2025\nSupervisionstag am 19.07.2025
URL:https://dgkv.info/termin/jump-in-act-workshopreihe-2/2025-05-17/
LOCATION:ACT-Netzwerk Berlin-Brandenburg\, Friedelstr. 40 HH (im SIA)\, Berlin\, 12047\, Deutschland
ORGANIZER;CN="ACT-Netzwerk Berlin-Brandenburg":MAILTO:info@act-netzwerk-bb.de
GEO:52.4918111;13.4275503
X-APPLE-STRUCTURED-LOCATION;VALUE=URI;X-ADDRESS=ACT-Netzwerk Berlin-Brandenburg Friedelstr. 40 HH (im SIA) Berlin 12047 Deutschland;X-APPLE-RADIUS=500;X-TITLE=Friedelstr. 40 HH (im SIA):geo:13.4275503,52.4918111
END:VEVENT
BEGIN:VEVENT
DTSTART;TZID=Europe/Berlin:20250516T140000
DTEND;TZID=Europe/Berlin:20250516T193000
DTSTAMP:20260421T152140
CREATED:20241108T101403Z
LAST-MODIFIED:20241108T101403Z
UID:6856-1747404000-1747423800@dgkv.info
SUMMARY:Jump In ACT - Workshopreihe
DESCRIPTION:Die dreiteilige Workshop-Reihe (+ Supervisiontag) zur Einführung in die ACT „Jump In ACT“ bietet Ärzten\, Fach-Therapeuten\, PPIAs\, Sozialarbeitern/-pädagogen\, Coaches\, Studenten\, … und allen anderen professionell Interessierten die Möglichkeit\, ACT kennenzulernen und sich mit Hilfe erfahrungsorientierter praktischer Übungen anzueignen. \nJump In ACT I am 11. und 12.04.2025\nJump In ACT II am 16. und 17.05.2025\nJump In ACT III am 13. und 14.06.2025\nSupervisionstag am 19.07.2025
URL:https://dgkv.info/termin/jump-in-act-workshopreihe-2/2025-05-16/
LOCATION:ACT-Netzwerk Berlin-Brandenburg\, Friedelstr. 40 HH (im SIA)\, Berlin\, 12047\, Deutschland
ORGANIZER;CN="ACT-Netzwerk Berlin-Brandenburg":MAILTO:info@act-netzwerk-bb.de
GEO:52.4918111;13.4275503
X-APPLE-STRUCTURED-LOCATION;VALUE=URI;X-ADDRESS=ACT-Netzwerk Berlin-Brandenburg Friedelstr. 40 HH (im SIA) Berlin 12047 Deutschland;X-APPLE-RADIUS=500;X-TITLE=Friedelstr. 40 HH (im SIA):geo:13.4275503,52.4918111
END:VEVENT
BEGIN:VEVENT
DTSTART;TZID=Europe/Berlin:20250412T100000
DTEND;TZID=Europe/Berlin:20250412T170000
DTSTAMP:20260421T152140
CREATED:20241108T101403Z
LAST-MODIFIED:20241108T101403Z
UID:6855-1744452000-1744477200@dgkv.info
SUMMARY:Jump In ACT - Workshopreihe
DESCRIPTION:Die dreiteilige Workshop-Reihe (+ Supervisiontag) zur Einführung in die ACT „Jump In ACT“ bietet Ärzten\, Fach-Therapeuten\, PPIAs\, Sozialarbeitern/-pädagogen\, Coaches\, Studenten\, … und allen anderen professionell Interessierten die Möglichkeit\, ACT kennenzulernen und sich mit Hilfe erfahrungsorientierter praktischer Übungen anzueignen. \nJump In ACT I am 11. und 12.04.2025\nJump In ACT II am 16. und 17.05.2025\nJump In ACT III am 13. und 14.06.2025\nSupervisionstag am 19.07.2025
URL:https://dgkv.info/termin/jump-in-act-workshopreihe-2/2025-04-12/
LOCATION:ACT-Netzwerk Berlin-Brandenburg\, Friedelstr. 40 HH (im SIA)\, Berlin\, 12047\, Deutschland
ORGANIZER;CN="ACT-Netzwerk Berlin-Brandenburg":MAILTO:info@act-netzwerk-bb.de
GEO:52.4918111;13.4275503
X-APPLE-STRUCTURED-LOCATION;VALUE=URI;X-ADDRESS=ACT-Netzwerk Berlin-Brandenburg Friedelstr. 40 HH (im SIA) Berlin 12047 Deutschland;X-APPLE-RADIUS=500;X-TITLE=Friedelstr. 40 HH (im SIA):geo:13.4275503,52.4918111
END:VEVENT
BEGIN:VEVENT
DTSTART;TZID=Europe/Berlin:20250411T140000
DTEND;TZID=Europe/Berlin:20250411T193000
DTSTAMP:20260421T152140
CREATED:20241108T101403Z
LAST-MODIFIED:20241108T101403Z
UID:6854-1744380000-1744399800@dgkv.info
SUMMARY:Jump In ACT - Workshopreihe
DESCRIPTION:Die dreiteilige Workshop-Reihe (+ Supervisiontag) zur Einführung in die ACT „Jump In ACT“ bietet Ärzten\, Fach-Therapeuten\, PPIAs\, Sozialarbeitern/-pädagogen\, Coaches\, Studenten\, … und allen anderen professionell Interessierten die Möglichkeit\, ACT kennenzulernen und sich mit Hilfe erfahrungsorientierter praktischer Übungen anzueignen. \nJump In ACT I am 11. und 12.04.2025\nJump In ACT II am 16. und 17.05.2025\nJump In ACT III am 13. und 14.06.2025\nSupervisionstag am 19.07.2025
URL:https://dgkv.info/termin/jump-in-act-workshopreihe-2/2025-04-11/
LOCATION:ACT-Netzwerk Berlin-Brandenburg\, Friedelstr. 40 HH (im SIA)\, Berlin\, 12047\, Deutschland
ORGANIZER;CN="ACT-Netzwerk Berlin-Brandenburg":MAILTO:info@act-netzwerk-bb.de
GEO:52.4918111;13.4275503
X-APPLE-STRUCTURED-LOCATION;VALUE=URI;X-ADDRESS=ACT-Netzwerk Berlin-Brandenburg Friedelstr. 40 HH (im SIA) Berlin 12047 Deutschland;X-APPLE-RADIUS=500;X-TITLE=Friedelstr. 40 HH (im SIA):geo:13.4275503,52.4918111
END:VEVENT
BEGIN:VEVENT
DTSTART;VALUE=DATE:20230317
DTEND;VALUE=DATE:20230319
DTSTAMP:20260421T152140
CREATED:20220928T103227Z
LAST-MODIFIED:20220928T104302Z
UID:5989-1679011200-1679183999@dgkv.info
SUMMARY:JumpIn ACT Berlin
DESCRIPTION:3 Wochenenden + 1 Tag\, um ACT zu lernen\, zu erfahren\, auszuprobieren \nJumpIn ACT 1: Was ist ACT? Theorie\, Haltung\, Hintergründe\, Einführung in die sechs Kernprozesse\nJumpIn ACT 2: vertiefende Übungen zu den sechs Kernprozessen\, kreativer Hoffnungslosigkeit\, Funktionsanalyse\, ….\nJumpIn ACT 3: Modelle\, spezifische Fragestellungen\, Fallkonzeption\nSupervisionstag: Fall-Intervision und Supervision\, auspobieren\, üben
URL:https://dgkv.info/termin/jumpin-act-berlin/2023-03-17/
LOCATION:ACT-Netzwerk Berlin-Brandenburg\, Friedelstr. 40 HH (im SIA)\, Berlin\, 12047\, Deutschland
CATEGORIES:Workshop
ATTACH;FMTTYPE=image/jpeg:https://dgkv.info/wp-content/uploads/2022/09/DSC01972-scaled-e1664361543486.jpg
ORGANIZER;CN="ACT-Netzwerk Berlin-Brandenburg":MAILTO:info@act-netzwerk-bb.de
GEO:52.4918111;13.4275503
X-APPLE-STRUCTURED-LOCATION;VALUE=URI;X-ADDRESS=ACT-Netzwerk Berlin-Brandenburg Friedelstr. 40 HH (im SIA) Berlin 12047 Deutschland;X-APPLE-RADIUS=500;X-TITLE=Friedelstr. 40 HH (im SIA):geo:13.4275503,52.4918111
END:VEVENT
BEGIN:VEVENT
DTSTART;TZID=Europe/Berlin:20220401T140000
DTEND;TZID=Europe/Berlin:20220402T170000
DTSTAMP:20260421T152140
CREATED:20211129T151709Z
LAST-MODIFIED:20211129T151709Z
UID:5564-1648821600-1648918800@dgkv.info
SUMMARY:Jump In ACT - Fortbildungsreihe
DESCRIPTION:drei Wochenenden und ein Supervisionstag für einen praktischen und informativen Einstieg in die ACT
URL:https://dgkv.info/termin/jump-in-act-fortbildungsreihe/2022-04-01/
LOCATION:ACT-Netzwerk Berlin-Brandenburg\, Friedelstr. 40 HH (im SIA)\, Berlin\, 12047\, Deutschland
ATTACH;FMTTYPE=image/gif:https://dgkv.info/wp-content/uploads/2021/11/ACT-GBR-4.gif
ORGANIZER;CN="ACT-Netzwerk Berlin-Brandenburg":MAILTO:info@act-netzwerk-bb.de
GEO:52.4918111;13.4275503
X-APPLE-STRUCTURED-LOCATION;VALUE=URI;X-ADDRESS=ACT-Netzwerk Berlin-Brandenburg Friedelstr. 40 HH (im SIA) Berlin 12047 Deutschland;X-APPLE-RADIUS=500;X-TITLE=Friedelstr. 40 HH (im SIA):geo:13.4275503,52.4918111
END:VEVENT
BEGIN:VEVENT
DTSTART;VALUE=DATE:20210827
DTEND;VALUE=DATE:20210828
DTSTAMP:20260421T152140
CREATED:20210812T081801Z
LAST-MODIFIED:20210812T081801Z
UID:5299-1630022400-1630108799@dgkv.info
SUMMARY:JumpIn ACT\, ACT-Netzwerk BB
DESCRIPTION:Einstiegs- und Vertiefungsworkshop über drei Wochenenden und einen Supervisionstag
URL:https://dgkv.info/termin/jumpin-act-act-netzwerk-bb/2021-08-27/
LOCATION:ACT-Netzwerk Berlin-Brandenburg\, Friedelstr. 40 HH (im SIA)\, Berlin\, 12047\, Deutschland
ORGANIZER;CN="ACT-Netzwerk Berlin-Brandenburg":MAILTO:info@act-netzwerk-bb.de
GEO:52.4918111;13.4275503
X-APPLE-STRUCTURED-LOCATION;VALUE=URI;X-ADDRESS=ACT-Netzwerk Berlin-Brandenburg Friedelstr. 40 HH (im SIA) Berlin 12047 Deutschland;X-APPLE-RADIUS=500;X-TITLE=Friedelstr. 40 HH (im SIA):geo:13.4275503,52.4918111
END:VEVENT
BEGIN:VEVENT
DTSTART;VALUE=DATE:20210326
DTEND;VALUE=DATE:20210327
DTSTAMP:20260421T152140
CREATED:20200820T122329Z
LAST-MODIFIED:20200820T122329Z
UID:4255-1616716800-1616716800@dgkv.info
SUMMARY:Jump In ACT - Workshopreihe
DESCRIPTION:Die Trainerkooperative des ACT-Netzwerkes Berlin-Brandenburg bietet jährlich zwei Workshopreihen mit je drei Wochenenden plus einem Supervisionstag zum Einstieg in die ACT an: Jump In ACT. \nMehr Informationen unter www.act-netzwerk-bb.de
URL:https://dgkv.info/termin/jump-in-act-workshopreihe/2021-03-26/
LOCATION:ACT-Netzwerk Berlin-Brandenburg\, Friedelstr. 40 HH (im SIA)\, Berlin\, 12047\, Deutschland
ORGANIZER;CN="ACT-Netzwerk Berlin-Brandenburg":MAILTO:info@act-netzwerk-bb.de
GEO:52.4918111;13.4275503
X-APPLE-STRUCTURED-LOCATION;VALUE=URI;X-ADDRESS=ACT-Netzwerk Berlin-Brandenburg Friedelstr. 40 HH (im SIA) Berlin 12047 Deutschland;X-APPLE-RADIUS=500;X-TITLE=Friedelstr. 40 HH (im SIA):geo:13.4275503,52.4918111
END:VEVENT
BEGIN:VEVENT
DTSTART;VALUE=DATE:20201031
DTEND;VALUE=DATE:20201102
DTSTAMP:20260421T152140
CREATED:20200812T093511Z
LAST-MODIFIED:20200812T093511Z
UID:4244-1604102400-1604275199@dgkv.info
SUMMARY:Lebendige Metaphern
DESCRIPTION:das ACT-Netzwerk Berlin-Brandenburg präsentiert das ACT-Special \n„Lebendige Metaphern“\nConny Hörmann und Julia Kilian stellen Kunst- und tanztherapeutische Interventionen in der Verbindung mit der Akzeptanz- und Commitment Therapie (ACT) zum Kennenlernen\, Ausprobieren und Mitnehmen vor. \nMit diesem zweitägigen Workshop möchten wir einen Einblick in die Verbindung von künstlerischen Therapien und dem verhaltenstherapeutischen Konzept der Akzeptanz- und Commitment-Therapie ermöglichen. Im Fokus stehen kunst- und tanztherapeutische Erlebnisräume\, die gemeinsam mit den ACT Kernprozessen erfahrbar werden. Neben achtsamer Selbsterfahrung\nbieten spielerische Übungen Transfermöglichkeiten für den (beruflichen) Alltag.\nWir freuen uns auf euch! \nam 31. Oktober und 01. Nobember 2020 von 10 bis 18 Uhr im EDEN Studio Berlin \nInfos und Anmeldung unter https://act-netzwerk-bb.de/workshopsseminare/act-specials/
URL:https://dgkv.info/termin/lebendige-metaphern/
ORGANIZER;CN="ACT-Netzwerk Berlin-Brandenburg":MAILTO:info@act-netzwerk-bb.de
END:VEVENT
BEGIN:VEVENT
DTSTART;VALUE=DATE:20190824
DTEND;VALUE=DATE:20190826
DTSTAMP:20260421T152140
CREATED:20190306T131049Z
LAST-MODIFIED:20190306T131049Z
UID:3268-1566604800-1566777599@dgkv.info
SUMMARY:Flexival Berlin
DESCRIPTION:DAS ACT-FLEXIVAL IN BERLIN\n\n\nIMPULSWORKSHOPS MIT PARTY \nDas ACT-Flexival\n24.- 25. August 2019\nWegen starker Nachfrage zu Auffrischungs- und Schnuppermöglichkeiten in ACT veranstaltet das ACT-Netzwerk Berlin-Brandenburg verteilt über insgesamt 1\,5 Tage das FLEXIVAL Berlin.\nIn abwechslungsreichen Impuls-Workshops sollen diverse Möglichkeiten der Arbeit mit ACT vorgestellt werden. Alle an ACT Interessierten können Raum zum Vertiefen bisheriger ACT-Kenntnisse\, Inspiration sowie Möglichkeiten zum Netzwerken und Austauschen erwarten. Ein vielfältiges Rahmenprogramm wird das Ganze vertiefen und lebendig halten. Am Abend treffen wir uns bei Musik und Geselligkeit\, bevor wir am Sonntag in die letzten Workshops gehen. Alle Workshops laufen nacheinander ab\, sodaß inhaltlich alle verfolgt werden können. \nDie Anmeldung erfolgt per Email: info@act-netzwerk-bb.de \nDer Frühbucherrabatt ist verlängert auf den 31.5.2019. \n \n\nDen Flyer des Flexivals gibt es hier \n 
URL:https://dgkv.info/termin/flexival-berlin/
LOCATION:ACT-Netzwerk Berlin-Brandenburg\, Friedelstr. 40 HH (im SIA)\, Berlin\, 12047\, Deutschland
ORGANIZER;CN="ACT-Netzwerk Berlin-Brandenburg":MAILTO:info@act-netzwerk-bb.de
GEO:52.4918111;13.4275503
X-APPLE-STRUCTURED-LOCATION;VALUE=URI;X-ADDRESS=ACT-Netzwerk Berlin-Brandenburg Friedelstr. 40 HH (im SIA) Berlin 12047 Deutschland;X-APPLE-RADIUS=500;X-TITLE=Friedelstr. 40 HH (im SIA):geo:13.4275503,52.4918111
END:VEVENT
END:VCALENDAR