BEGIN:VCALENDAR
VERSION:2.0
PRODID:-//DGKV - ECPv6.15.20//NONSGML v1.0//EN
CALSCALE:GREGORIAN
METHOD:PUBLISH
X-ORIGINAL-URL:https://dgkv.info
X-WR-CALDESC:Veranstaltungen für DGKV
REFRESH-INTERVAL;VALUE=DURATION:PT1H
X-Robots-Tag:noindex
X-PUBLISHED-TTL:PT1H
BEGIN:VTIMEZONE
TZID:Europe/Berlin
BEGIN:DAYLIGHT
TZOFFSETFROM:+0100
TZOFFSETTO:+0200
TZNAME:CEST
DTSTART:20210328T010000
END:DAYLIGHT
BEGIN:STANDARD
TZOFFSETFROM:+0200
TZOFFSETTO:+0100
TZNAME:CET
DTSTART:20211031T010000
END:STANDARD
BEGIN:DAYLIGHT
TZOFFSETFROM:+0100
TZOFFSETTO:+0200
TZNAME:CEST
DTSTART:20220327T010000
END:DAYLIGHT
BEGIN:STANDARD
TZOFFSETFROM:+0200
TZOFFSETTO:+0100
TZNAME:CET
DTSTART:20221030T010000
END:STANDARD
BEGIN:DAYLIGHT
TZOFFSETFROM:+0100
TZOFFSETTO:+0200
TZNAME:CEST
DTSTART:20230326T010000
END:DAYLIGHT
BEGIN:STANDARD
TZOFFSETFROM:+0200
TZOFFSETTO:+0100
TZNAME:CET
DTSTART:20231029T010000
END:STANDARD
END:VTIMEZONE
BEGIN:VEVENT
DTSTART;TZID=Europe/Berlin:20220121T091500
DTEND;TZID=Europe/Berlin:20220121T161500
DTSTAMP:20260421T105858
CREATED:20211209T154842Z
LAST-MODIFIED:20211209T155218Z
UID:5586-1642756500-1642781700@dgkv.info
SUMMARY:Akzeptanz- und Commitmenttherapie (ACT) Online Workshop
DESCRIPTION:Die Therapie geht nicht voran\, jetzt hat der Klient noch eine Kündigung erhalten\, er ist frustriert\, die Schmerzen nehmen zu… wo und wie gestalte ich meine Therapie? \nBei solchen komplexen Klientensituationen gute\, nachhaltige\, flexible Lösungen zu finden? Wie geht das? ACT (Akzeptanz- und Commitment Therapie) ist eine therapeutische Haltung und ein Modell\, das uns Therapeut*innen helfen kann\, persönliche Werte von Klient*innen zu eruieren\, sie zu unterstützen\, unveränderbare Erfahrungen zu akzeptieren und die Freude und Bereitschaft für flexibles Handeln zu stärken. Damit wird es leichter\, auch schwierige Lebenssituationen konkret anzupacken. \nDie Ausschreibung richtet sich an Ergo- und Physiotherapeut*innen\, sowie an alle Therapeut*innen\, Ärztinnen und andere Berufsgruppen\, die mit Menschen arbeiten\, die an Schmerzen leiden\, seien es körperliche\, emotionale\, soziale oder spirituelle Schmerzen. Der Kurs ist geeignet für Anfänger*innen\, die einen ersten Einblick in die ACT bekommen wollen\, als auch für Fortgeschrittene\, die sich in einem lernförderlichen Umfeld weiter in ACT üben und mit Kolleg*innen austauschen möchten. \nNähere Informationen und Anmeldung zum Workshop siehe Link. Für inhaltliche Rückfragen: herbertassaloni@hin.ch
URL:https://dgkv.info/termin/akzeptanz-und-commitmenttherapie-act-online-workshop/
LOCATION:Zoom\, Online-Seminar
END:VEVENT
END:VCALENDAR